BEGIN:VCALENDAR
VERSION:2.0
PRODID:-//Wine and Canvas - Toledo, OH / Adrian, MI - ECPv6.15.20//NONSGML v1.0//EN
CALSCALE:GREGORIAN
METHOD:PUBLISH
X-ORIGINAL-URL:https://wineandcanvas.com/toledo
X-WR-CALDESC:Events for Wine and Canvas - Toledo, OH / Adrian, MI
REFRESH-INTERVAL;VALUE=DURATION:PT1H
X-Robots-Tag:noindex
X-PUBLISHED-TTL:PT1H
BEGIN:VTIMEZONE
TZID:America/Indiana/Indianapolis
BEGIN:DAYLIGHT
TZOFFSETFROM:-0500
TZOFFSETTO:-0400
TZNAME:EDT
DTSTART:20250309T070000
END:DAYLIGHT
BEGIN:STANDARD
TZOFFSETFROM:-0400
TZOFFSETTO:-0500
TZNAME:EST
DTSTART:20251102T060000
END:STANDARD
BEGIN:DAYLIGHT
TZOFFSETFROM:-0500
TZOFFSETTO:-0400
TZNAME:EDT
DTSTART:20260308T070000
END:DAYLIGHT
BEGIN:STANDARD
TZOFFSETFROM:-0400
TZOFFSETTO:-0500
TZNAME:EST
DTSTART:20261101T060000
END:STANDARD
BEGIN:DAYLIGHT
TZOFFSETFROM:-0500
TZOFFSETTO:-0400
TZNAME:EDT
DTSTART:20270314T070000
END:DAYLIGHT
BEGIN:STANDARD
TZOFFSETFROM:-0400
TZOFFSETTO:-0500
TZNAME:EST
DTSTART:20271107T060000
END:STANDARD
END:VTIMEZONE
BEGIN:VEVENT
DTSTART;TZID=America/Indiana/Indianapolis:20260425T170000
DTEND;TZID=America/Indiana/Indianapolis:20260425T190000
DTSTAMP:20260425T144858
CREATED:20260401T140035Z
LAST-MODIFIED:20260401T140035Z
UID:10000850-1777136400-1777143600@wineandcanvas.com
SUMMARY:Monroe Private Paint and Sip Party - Abstract Flower
DESCRIPTION:THIS DATE IS RESERVED FOR A PRIVATE Paint & Sip Party\nThis Private Paint  and Sip Party is an exclusive celebration for friends\, family\, and coworkers to get together in a creative way. You pick the venue\, date\, time\, and project. Then\, we’ll come together and host an unforgettable paint and sip! \n \n Important Information: \n\nPricing includes all the art supplies (canvas\, paint\, brushes\, etc..)\, table covers\, and aprons.\nThe artist will complete the setup/cleanup and guide everyone through the process of creating their Masterpiece they can take home.\nFood/beverages or tables/chairs are not provided if the event is held at an office/home/on-location.\nIf your event is held at one of our venue partner locations\, food/beverages for your guests may be arranged and purchased through the hosting venue.\nIf the event starts an hour or later than the confirmed time a late fee may be added calculated at the rate of $50 per hour.\nCustom painting is an extra flat fee of $50 and must be paid when the deposit is paid.\n\nTerms and Conditions: \n\nTo confirm the Private Event booking the client must pay the deposit. This deposit is non-refundable but it is transferable for up to 1 year.\nBy submitting the deposit you agree to the “Terms and Conditions” listed on this page.\nThe painting portfolio will be sent to the client once the deposit is paid.\nWe are not financially responsible for paint on clothing or other surfaces during our events.\n\nPlan a Private Paint and Sip Party Event:\nWe are a mobile art studio so we can come to your home\, office\, or venue of choice. If you don’t have a venue in mind\, we will help you find a great restaurant in your area. Your booking does not include food & beverages. Be sure to order from the venue when you visit! \nAll events are booked in 3-hour windows\, excluding our Cookies & Canvas kids events that take only 2 hours to complete. Artists will handle setup and cleanup. We can do 2 hours if you have time restrictions\, but may need to simplify the project you pick. \nFor groups of 10-18 people\, consider booking a private painting party at our Wine & Canvas Studio! Alternatively\, you can book a paint & sip event with one of our great partner locations such as The Mockingbird on Mill Road\, The Overflow Event Center & Perfect Imperfections Boutique & Design. For more information and availability\, visit our PRIVATE EVENT FORM. \nProject Ideas for Your Private Painting Party:\n\nCanvas – Follow step-by-step instructions to paint a beautiful scene.\nMurals – Collaborate as a group to contribute elements to a larger artwork—ideal for team building!\nGlass Painting – Create a custom glassware piece with a chosen design.\nWood Pallet – Paint a scene following guided steps.\nPet Portraits – Honor your furry friend with a personalized painting.\nCookies and Canvas – A fun painting experience for kids ages 6+.\n\nPricing varies\, so contact us today for a FREE quote! \n📞 Phone: (419) 705-0911\n📧 Email: infotoledo@wineandcanvas.com \nThe Benefits\nWhy book a private paint party? There are endless reasons to celebrate! These events offer the perfect chance to reconnect with loved ones\, relax\, and enjoy a creative experience together—no prior painting skills required! \nHave more questions? Contact Customer Support by clicking here. \nFollow us on Socials! Facebook & Instagram
URL:https://wineandcanvas.com/toledo/event/monroe-private-paint-and-sip-party-abstract-flower/
LOCATION:Wine and Canvas on Location\, Around Town!\, United States
CATEGORIES:Private Events
ATTACH;FMTTYPE=image/jpeg:https://wineandcanvas.com/toledo/wp-content/uploads/sites/68/2026/02/Abstract-Flower-JC.jpg
ORGANIZER;CN="Emily":MAILTO:emilycousino@yahoo.com
GEO:37.9222417;-95.4044406
X-APPLE-STRUCTURED-LOCATION;VALUE=URI;X-ADDRESS=Wine and Canvas on Location Around Town! United States;X-APPLE-RADIUS=500;X-TITLE=Around Town!:geo:-95.4044406,37.9222417
END:VEVENT
END:VCALENDAR