BEGIN:VCALENDAR
VERSION:2.0
PRODID:-//Wine and Canvas - Toledo, OH / Adrian, MI - ECPv6.15.20//NONSGML v1.0//EN
CALSCALE:GREGORIAN
METHOD:PUBLISH
X-WR-CALNAME:Wine and Canvas - Toledo, OH / Adrian, MI
X-ORIGINAL-URL:https://wineandcanvas.com/toledo
X-WR-CALDESC:Events for Wine and Canvas - Toledo, OH / Adrian, MI
REFRESH-INTERVAL;VALUE=DURATION:PT1H
X-Robots-Tag:noindex
X-PUBLISHED-TTL:PT1H
BEGIN:VTIMEZONE
TZID:America/Indiana/Indianapolis
BEGIN:DAYLIGHT
TZOFFSETFROM:-0500
TZOFFSETTO:-0400
TZNAME:EDT
DTSTART:20250309T070000
END:DAYLIGHT
BEGIN:STANDARD
TZOFFSETFROM:-0400
TZOFFSETTO:-0500
TZNAME:EST
DTSTART:20251102T060000
END:STANDARD
BEGIN:DAYLIGHT
TZOFFSETFROM:-0500
TZOFFSETTO:-0400
TZNAME:EDT
DTSTART:20260308T070000
END:DAYLIGHT
BEGIN:STANDARD
TZOFFSETFROM:-0400
TZOFFSETTO:-0500
TZNAME:EST
DTSTART:20261101T060000
END:STANDARD
BEGIN:DAYLIGHT
TZOFFSETFROM:-0500
TZOFFSETTO:-0400
TZNAME:EDT
DTSTART:20270314T070000
END:DAYLIGHT
BEGIN:STANDARD
TZOFFSETFROM:-0400
TZOFFSETTO:-0500
TZNAME:EST
DTSTART:20271107T060000
END:STANDARD
END:VTIMEZONE
BEGIN:VEVENT
DTSTART;TZID=America/Indiana/Indianapolis:20260419T110000
DTEND;TZID=America/Indiana/Indianapolis:20260419T140000
DTSTAMP:20260419T140608
CREATED:20260316T185632Z
LAST-MODIFIED:20260316T185632Z
UID:10000842-1776596400-1776607200@wineandcanvas.com
SUMMARY:Newport Paint and Sip Party - Dreaming of Paradise Drink
DESCRIPTION:Newport Paint and Sip Party – Dreaming of Paradise Drink\nInstructed by: TBD\n🍹🌴 Tropical colors. Ocean breeze. A mini vacation on canvas. \nJoin us at Verna’s Bar & Grill in Newport for Dreaming of Paradise Drink\, a relaxing Paint & Sip experience inspired by sunny beaches and tropical getaways. In this vibrant scene\, a refreshing island cocktail sits on a wooden beach table with a citrus garnish\, cherry\, and colorful drink umbrella. Meanwhile\, soft ocean waves and sandy shores stretch across the background and instantly set the vacation mood. \nAs you blend cool ocean blues with warm sand tones\, the beach scene slowly comes to life. Next\, you will layer rich reds and soft highlights to create a glowing tropical drink. Because our instructor guides you step by step\, beginners can easily follow along and still create a beautiful finished painting. \nWhether you plan a girls’ outing\, a casual date\, or simply want a creative escape\, this class offers relaxed coastal vibes and bright summer energy. In fact\, many guests say these beach paintings feel like a tiny vacation in the middle of their week. \nEven better\, you don’t need any painting experience. Instead\, we break the design into simple sections so you can sip\, paint\, and enjoy the experience from start to finish. \n \n\n🖌 What You’ll Learn\nDuring this class\, you’ll: \n\n\nBlend ocean blues and soft sky tones for a beach backdrop \n\n\nCreate sandy shoreline gradients for depth \n\n\nPaint glass highlights and reflections on the cocktail \n\n\nAdd colorful garnishes like citrus slices and drink umbrellas \n\n\nUse layering and contrast to make the drink stand out \n\n\nBecause each step builds on the previous one\, your painting will come together smoothly and naturally. \n\n🧑‍🎨 What’s Included\nWe provide everything you need\, so you can arrive ready to paint: \n\n\nStep-by-step instruction from a local artist \n\n\nAll supplies (16×20 canvas\, paints\, brushes\, apron) \n\n\nA relaxed\, social painting atmosphere \n\n\nYour finished Dreaming of Paradise Drink painting to take home \n\n\n\n🍔 Food & Drinks Available\nVerna’s Bar & Grill offers a full-service bar and kitchen\, so guests often arrive early or stay afterward to enjoy food and drinks. \nFood and beverages are not included in the ticket price. \n\n📍 Event Location\nVerna’s Bar & Grill7900 N Dixie HwyNewport\, MI 48166 \n\n🗓 Date & Time\nSunday\, April 19th\, 202611:00 AM – 2:00 PM \nPlease arrive a little early if you’d like to order food or drinks before the event begins. \n\n🧑‍🎨 What to Expect\n\n\nStep-by-step instruction from your artist \n\n\nAll painting supplies provided \n\n\nA relaxed and welcoming creative atmosphere \n\n\nYour finished tropical cocktail painting to take home \n\n\nTherefore\, this event works perfectly for girls’ outings\, birthdays\, date days\, or anyone ready for a creative mini vacation. \n\n🍻 About Verna’s Bar & Grill\nVerna’s Bar & Grill is a longtime Newport favorite known for its laid-back atmosphere\, full bar\, and classic bar-and-grill menu. Located along North Dixie Highway\, it’s a popular gathering place where locals enjoy drinks\, food\, and social events. \nWith its casual vibe and welcoming staff\, Verna’s makes a perfect setting for a fun Paint & Sip experience. \n\n🎟 Reserve Your Seat\nSpots fill quickly for our Newport Paint & Sip Parties. \nPolicies \n\n\nTickets become non-refundable after 3 days from purchase \n\n\nCancellations must be made at least 48 hours before the event \n\n\nFood and drinks are not included in the ticket price \n\n\n\n🥳 Host a Private Paint & Sip Party\nPlanning a birthday\, bridal shower\, or corporate event? Host your own Paint & Sip Party at Wine & Canvas or one of our amazing partner venues: \n\n\nThe Mockingbird on Mill Road \n\n\nThe Overflow Event Center \n\n\nPerfect Imperfections Boutique & Design \n\n\nWine & Canvas Studio \n\n\n👉 [Inquire via our Private Event Form] \n\n🔗 Follow Us for More Creative Fun in Toledo! Stay inspired and tag us in your paintings: Facebook | InstagramUse #ToledoPaintAndSip for a chance to be featured!
URL:https://wineandcanvas.com/toledo/event/newport-paint-and-sip-party-dreaming-of-paradise-drink/
LOCATION:Verna’s Bar & Grill\, 7900 N Dixie Hwy\, Newport\, Michigan\, 48166
CATEGORIES:Wine & Canvas
ATTACH;FMTTYPE=image/jpeg:https://wineandcanvas.com/toledo/wp-content/uploads/sites/68/2026/03/Dreaming-of-Paradise_LM.jpeg
END:VEVENT
BEGIN:VEVENT
DTSTART;TZID=America/Indiana/Indianapolis:20260308T103000
DTEND;TZID=America/Indiana/Indianapolis:20260308T133000
DTSTAMP:20260419T140608
CREATED:20260223T171923Z
LAST-MODIFIED:20260223T171923Z
UID:10000827-1772965800-1772976600@wineandcanvas.com
SUMMARY:Newport Paint and Sip Party - Spring Showers & Flowers
DESCRIPTION:Newport Paint and Sip Party – Spring Showers & Flowers\nInstructed by: TBD\n🌷👢 Shake off winter and let the blooms begin! \nJoin us at Verna’s Bar & Grill in Newport for Spring Showers & Flowers\, a cheerful Paint & Sip Party bursting with fresh spring charm. Instead of chilly gray days\, we’re painting bright turquoise rain boots overflowing with soft pink blossoms. As a result\, you’ll create a canvas that feels warm\, welcoming\, and full of seasonal joy. \nThis design feels playful yet cozy. While the neutral background keeps things soft and farmhouse-inspired\, the bold boots and florals add that pop of color we all crave this time of year. Whether you’re planning a girls’ outing\, a mother-daughter date\, or simply need a creative reset\, this class delivers relaxed\, feel-good fun. \nNo painting experience? No problem. We guide you every step of the way\, so you can sip\, paint\, and actually enjoy the process. \n \n\n🎨 About the Event\nOur talented local artist will guide you step by step as you paint your own 16×20 Spring Showers & Flowers canvas. Because we break the painting into simple sections\, you’ll feel confident from the very first brushstroke. \nDuring class\, you’ll: \n\n\nBlend soft background tones to build subtle texture \n\n\nShape the rain boots using highlights and shadow \n\n\nLayer pink petals with loose\, forgiving brush techniques \n\n\nAdd greenery and contrast for depth and dimension \n\n\nPlus\, we provide all supplies — just bring your creative spirit and a readiness to have fun. \n\n🍷 Food & Drinks Available\nVerna’s Bar & Grill offers a full-service bar and kitchen\, so guests are encouraged to arrive early or stay after class to enjoy food and drinks. Make it brunch\, lunch\, or a full Sunday Funday! \nFood and drinks are not included in the ticket price. \n\n📍 Event Location\nVerna’s Bar & Grill7900 N Dixie HwyNewport\, MI 48166 \n\n🗓 Event Date & Time\nSunday\, March 8th\, 202610:30 AM – 1:30 PM \n\n🧑‍🎨 What to Expect\n\n\nStep-by-step instruction from your artist \n\n\nAll supplies provided (16×20 canvas\, paints\, brushes\, apron) \n\n\nA fun\, social\, no-pressure painting atmosphere \n\n\nYour finished Spring Showers & Flowers masterpiece to take home \n\n\nPerfect for girls’ outings\, mother-daughter dates\, birthdays\, or anyone ready to sip into spring. \n\n🍻 About Verna’s Bar & Grill\nVerna’s Bar & Grill is a long-standing local favorite in Newport\, known for its laid-back atmosphere\, full bar\, and classic bar-and-grill menu. Located on North Dixie Highway\, Verna’s is a popular neighborhood spot where guests gather for drinks\, food\, and social events. \nWith a welcoming\, casual vibe and plenty of seating\, Verna’s is a great place to relax\, enjoy a cocktail or beer\, and spend an evening with friends — making it an ideal partner venue for a Paint & Sip night. \n\n🎟 Reserve Your Seat\nSpots fill fast for our Newport Paint & Sip Parties! \n\n\nTickets are non-refundable after 3 days from purchase \n\n\nCancellations must be made 48+ hours in advance \n\n\nFood and drinks are not included in the ticket price \n\n\n\n🥳 Host a Private Paint & Sip Party\nPlanning a birthday\, bridal shower\, or corporate event? Host your own Paint & Sip Party at Wine & Canvas or one of our amazing partner venues: \n\n\nThe Mockingbird on Mill Road \n\n\nThe Overflow Event Center \n\n\nPerfect Imperfections Boutique & Design \n\n\nWine & Canvas Studio \n\n\n👉 [Inquire via our Private Event Form] \n\n🔗 Follow Us for More Creative Fun in Toledo! Stay inspired and tag us in your paintings: Facebook | InstagramUse #ToledoPaintAndSip for a chance to be featured!
URL:https://wineandcanvas.com/toledo/event/newport-paint-and-sip-party-spring-showers-flowers/
LOCATION:Verna’s Bar & Grill\, 7900 N Dixie Hwy\, Newport\, Michigan\, 48166
CATEGORIES:Wine & Canvas
ATTACH;FMTTYPE=image/jpeg:https://wineandcanvas.com/toledo/wp-content/uploads/sites/68/2026/02/Spring-Showers-Flowers.jpeg
END:VEVENT
BEGIN:VEVENT
DTSTART;TZID=America/Indiana/Indianapolis:20260128T180000
DTEND;TZID=America/Indiana/Indianapolis:20260128T210000
DTSTAMP:20260419T140608
CREATED:20260107T141644Z
LAST-MODIFIED:20260111T221737Z
UID:10000783-1769623200-1769634000@wineandcanvas.com
SUMMARY:Newport Paint and Sip Party - Flirtini
DESCRIPTION:Newport Paint and Sip Party – Flirtini\nInstructed by: TBD\n✨ Shake things up and paint something flirty. \nJoin us at Verna’s Bar & Grill in Newport for Flirtini\, a bright and playful Paint & Sip Party featuring a pink martini-style cocktail glass\, topped with a cherry garnish and surrounded by colorful\, confetti-like accents. Set against a soft\, textured background\, this painting feels light\, fun\, and full of personality. \nThis design is perfect for a girls’ night out\, date night\, or anyone looking for a relaxed evening of creativity paired with great drinks and good company. \nNo painting experience needed — just come ready to sip\, paint\, and have fun. \n\n🍸 Drink Included with Your Ticket!\nYour ticket includes your first drink on Verna’s 🍹Choose from one of Verna’s featured cocktails: \n\n\nMartinis \n\n\nMargaritas \n\n\nMules \n\n\nAdditional drinks and food will be available for purchase throughout the evening. \nPainting + a cocktail to start the night = the perfect pairing. \n \n\n🎨 About the Event\nGuided step by step by our talented local artist\, you’ll paint your own 16×20 Flirtini canvas. \nDuring the class\, you’ll learn how to: \n\n\nBlend soft background tones for texture and depth \n\n\nShape a martini-style glass using highlights and clean lines \n\n\nCreate a vibrant pink cocktail with simple color layering \n\n\nAdd playful\, colorful accents that bring energy to the piece \n\n\nAll supplies are included — just bring your creative spirit. \n\n🍷 Food & Drinks Available\nBecause Verna’s Bar & Grill offers a full-service bar and kitchen\, guests are encouraged to arrive early or stay after the class to enjoy food and drinks. \n🎉 Your Paint & Sip ticket includes your first drink\, with your choice of: \n\n\nMartinis \n\n\nMargaritas \n\n\nMules \n\n\nAdditional drinks and menu items are available for purchase during the event. \n\n📍 Event Location\nVerna’s Bar & Grill7900 N Dixie HwyNewport\, MI 48166 \n\n🗓 Event Date & Time\nWednesday\, January 28th\, 20266:00 PM – 9:00 PM \n\n🧑‍🎨 What to Expect\n\n\nStep-by-step instruction from your artist \n\n\nAll supplies provided (canvas\, paints\, brushes\, apron) \n\n\nOne included cocktail with your ticket 🍸 \n\n\nA fun\, social\, no-pressure painting atmosphere \n\n\nYour finished Flirtini painting to take home \n\n\nPerfect for date nights\, girls’ nights out\, and casual midweek fun. \n\n🍻 About Verna’s Bar & Grill\nVerna’s Bar & Grill is a long-standing local favorite in Newport\, known for its laid-back atmosphere\, full bar\, and classic bar-and-grill menu. Located on North Dixie Highway\, Verna’s is a popular neighborhood spot where guests gather for drinks\, food\, and social events. \nWith a welcoming\, casual vibe and plenty of seating\, Verna’s is a great place to relax\, enjoy a cocktail or beer\, and spend an evening with friends — making it an ideal partner venue for a Paint & Sip night. \n\n🎟 Reserve Your Seat\nSpots fill fast for our Newport Paint & Sip Parties! \n\n\nTickets are non-refundable after 3 days from purchase \n\n\nCancellations must be made 48+ hours in advance \n\n\nFood is not included in the ticket price \n\n\nYour first drink is included; additional food and drinks are available for purchase at Verna’s \n\n\n\n🥳 Host a Private Paint & Sip Party\nPlanning a birthday\, bridal shower\, or corporate event? Host your own Paint & Sip Party at Wine & Canvas or one of our amazing partner venues: \n\n\nThe Mockingbird on Mill Road \n\n\nThe Overflow Event Center \n\n\nPerfect Imperfections Boutique & Design \n\n\nWine & Canvas Studio \n\n\n👉 [Inquire via our Private Event Form] \n\n🔗 Follow Us for More Creative Fun in Toledo! Stay inspired and tag us in your paintings: Facebook | InstagramUse #ToledoPaintAndSip for a chance to be featured!
URL:https://wineandcanvas.com/toledo/event/newport-paint-and-sip-party-flirtini/
LOCATION:Verna’s Bar & Grill\, 7900 N Dixie Hwy\, Newport\, Michigan\, 48166
CATEGORIES:Wine & Canvas
ATTACH;FMTTYPE=image/jpeg:https://wineandcanvas.com/toledo/wp-content/uploads/sites/68/2026/01/IMG_0937.jpeg
END:VEVENT
END:VCALENDAR