BEGIN:VCALENDAR
VERSION:2.0
PRODID:-//Wine and Canvas - South Bend - ECPv6.15.20//NONSGML v1.0//EN
CALSCALE:GREGORIAN
METHOD:PUBLISH
X-ORIGINAL-URL:https://wineandcanvas.com/south-bend
X-WR-CALDESC:Events for Wine and Canvas - South Bend
REFRESH-INTERVAL;VALUE=DURATION:PT1H
X-Robots-Tag:noindex
X-PUBLISHED-TTL:PT1H
BEGIN:VTIMEZONE
TZID:America/New_York
BEGIN:DAYLIGHT
TZOFFSETFROM:-0500
TZOFFSETTO:-0400
TZNAME:EDT
DTSTART:20240310T070000
END:DAYLIGHT
BEGIN:STANDARD
TZOFFSETFROM:-0400
TZOFFSETTO:-0500
TZNAME:EST
DTSTART:20241103T060000
END:STANDARD
BEGIN:DAYLIGHT
TZOFFSETFROM:-0500
TZOFFSETTO:-0400
TZNAME:EDT
DTSTART:20250309T070000
END:DAYLIGHT
BEGIN:STANDARD
TZOFFSETFROM:-0400
TZOFFSETTO:-0500
TZNAME:EST
DTSTART:20251102T060000
END:STANDARD
BEGIN:DAYLIGHT
TZOFFSETFROM:-0500
TZOFFSETTO:-0400
TZNAME:EDT
DTSTART:20260308T070000
END:DAYLIGHT
BEGIN:STANDARD
TZOFFSETFROM:-0400
TZOFFSETTO:-0500
TZNAME:EST
DTSTART:20261101T060000
END:STANDARD
END:VTIMEZONE
BEGIN:VEVENT
DTSTART;TZID=America/New_York:20251025T190000
DTEND;TZID=America/New_York:20251025T214500
DTSTAMP:20260424T085920
CREATED:20250920T032648Z
LAST-MODIFIED:20250920T032648Z
UID:10001473-1761418800-1761428700@wineandcanvas.com
SUMMARY:Paint and Sip ~Best Witches ~ $4 Wicked Cocktail Special
DESCRIPTION:Paint and Sip Event\n\nAbout Our Paint and Sip Event\nPaint and Sip on your favorite drink while you unleash your inner artist! A Wine and Canvas artist will walk you through each step while showing you how they created this painting. However\, you can choose to follow along with the artist or create something different. Therefore\, the only rule is to have fun. There is no experience necessary\, because the artist will guide you every step of the way. \nMore Details\nEach event ticket costs $38 and includes everything you need to create the painting plus pays the artist\, assistant\, and administrative fees. Our studio offers a small menu with light snacks and beverages available for purchase during the event. Each day we offer a different drink special. To protect our staff we ask that you pay via credit or debit card. Therefore\, please make sure you have a debit or credit card on hand. You can like us on Facebook to see upcoming specials or subscribe to our e-mails. \nPrivate Events\nOur company offers private events for any occasion! Some of the best reasons to celebrate include birthdays\, holidays\, and weddings. Corporate team building events are very popular\, as well. Although we host most of our events at our studio in Granger\, we also travel to any location you secure within our region. Contact our team for more details. The best way to reach us is by email. Our email address is infosb@wineandcanvas.com \nWine and Canvas is an entertainment event much like a concert\, dinner theatre\, or movie theatre. We do allow rescheduling unlike the above\, but we require you to reschedule your ticket via email to allow a 48 hour notice for regular Wine and Canvas or Cookies and Canvas events only.\nIf an event is cancelled\, you will be notified through our email system. \nPlease leave us a review on Google. \nContact us through our website to schedule your next private event or email our team at infosb@wineandcanvas.com \n  \n 
URL:https://wineandcanvas.com/south-bend/event/paint-and-sip-best-witches-4-wicked-cocktail-special/
LOCATION:Wine and Canvas – South Bend\, 14678 SR 23 Suite G\, Granger\, IN\, 46530\, United States
CATEGORIES:Wine & Canvas
ATTACH;FMTTYPE=image/png:https://wineandcanvas.com/south-bend/wp-content/uploads/sites/75/2023/09/Best-Witches-KD.png
GEO:41.7354139;-86.1523004
X-APPLE-STRUCTURED-LOCATION;VALUE=URI;X-ADDRESS=Wine and Canvas – South Bend 14678 SR 23 Suite G Granger IN 46530 United States;X-APPLE-RADIUS=500;X-TITLE=14678 SR 23 Suite G:geo:-86.1523004,41.7354139
END:VEVENT
END:VCALENDAR