BEGIN:VCALENDAR
VERSION:2.0
PRODID:-//Wine and Canvas - Minneapolis - ECPv6.15.20//NONSGML v1.0//EN
CALSCALE:GREGORIAN
METHOD:PUBLISH
X-WR-CALNAME:Wine and Canvas - Minneapolis
X-ORIGINAL-URL:https://wineandcanvas.com/minneapolis
X-WR-CALDESC:Events for Wine and Canvas - Minneapolis
REFRESH-INTERVAL;VALUE=DURATION:PT1H
X-Robots-Tag:noindex
X-PUBLISHED-TTL:PT1H
BEGIN:VTIMEZONE
TZID:America/Chicago
BEGIN:DAYLIGHT
TZOFFSETFROM:-0600
TZOFFSETTO:-0500
TZNAME:CDT
DTSTART:20240310T080000
END:DAYLIGHT
BEGIN:STANDARD
TZOFFSETFROM:-0500
TZOFFSETTO:-0600
TZNAME:CST
DTSTART:20241103T070000
END:STANDARD
BEGIN:DAYLIGHT
TZOFFSETFROM:-0600
TZOFFSETTO:-0500
TZNAME:CDT
DTSTART:20250309T080000
END:DAYLIGHT
BEGIN:STANDARD
TZOFFSETFROM:-0500
TZOFFSETTO:-0600
TZNAME:CST
DTSTART:20251102T070000
END:STANDARD
BEGIN:DAYLIGHT
TZOFFSETFROM:-0600
TZOFFSETTO:-0500
TZNAME:CDT
DTSTART:20260308T080000
END:DAYLIGHT
BEGIN:STANDARD
TZOFFSETFROM:-0500
TZOFFSETTO:-0600
TZNAME:CST
DTSTART:20261101T070000
END:STANDARD
BEGIN:DAYLIGHT
TZOFFSETFROM:-0600
TZOFFSETTO:-0500
TZNAME:CDT
DTSTART:20270314T080000
END:DAYLIGHT
BEGIN:STANDARD
TZOFFSETFROM:-0500
TZOFFSETTO:-0600
TZNAME:CST
DTSTART:20271107T070000
END:STANDARD
END:VTIMEZONE
BEGIN:VEVENT
DTSTART;TZID=America/Chicago:20260414T180000
DTEND;TZID=America/Chicago:20260414T210000
DTSTAMP:20260425T134740
CREATED:20260322T150310Z
LAST-MODIFIED:20260322T150310Z
UID:10000641-1776189600-1776200400@wineandcanvas.com
SUMMARY:Neon Cacti - includes your first pint of craft beer or hard cider! 
DESCRIPTION:The ticket price includes the use of all necessary paint supplies and aprons\, instruction by a professional and friendly local artist\, and a 16×20 gallery wrapped canvas! \nClasses at Third Act Brewery includes your first pint of craft beer or hard cider!  Additional Food and beverages are NOT INCLUDED and can be purchased from the hosting venue. \nWine and Canvas is an entertainment event much like a concert\, dinner theater or movie theater. Your credit card will be charged upon completion of your transaction. Wine and Canvas has a 48-hour cancellation policy; with 48 hours notice we will reschedule or refund your registration less a $5 processing fee for refunds. Please email melissap@wineandcanvas.com for additional information\, or call (612) 597-1302. \n  \nIf the class minimum is not met\, the class will be cancelled the day of the event\, so please use the best email and phone number to contact you when registering\, so we will be able to let you know of any cancellations. \nPlease LIKE us on Facebook!
URL:https://wineandcanvas.com/minneapolis/event/neon-cacti-includes-your-first-pint-of-craft-beer-or-hard-cider/
LOCATION:Third Act Brewery\, 4120 Radio Drive\, Woodbury\, 55129\, United States
CATEGORIES:Wine & Canvas
ATTACH;FMTTYPE=image/webp:https://wineandcanvas.com/minneapolis/wp-content/uploads/sites/71/2025/10/Neon-Cacti.webp
END:VEVENT
BEGIN:VEVENT
DTSTART;TZID=America/Chicago:20260330T180000
DTEND;TZID=America/Chicago:20260330T210000
DTSTAMP:20260425T134740
CREATED:20260223T035810Z
LAST-MODIFIED:20260223T035810Z
UID:10000637-1774893600-1774904400@wineandcanvas.com
SUMMARY:Paint Your Pet (Photo must be submitted by March 22nd) - includes your first pint of craft beer or hard cider! 
DESCRIPTION:Ticket Price Includes: \n\nUse of all necessary paint supplies and aprons\nInstruction by a professional and friendly local artist\nOne pre-printed 16×20 gallery-wrapped canvas\nOne pint of craft beer or hard cider\n\nEvent Details: Submit your pet photo by March 22nd to have your pre-printed canvas waiting for you to paint over to create your masterpiece!  Photos can be emailed to melissap@wineandcanvas.com with the subject line March 30th PET PHOTO\, please include the name of the person that registered.  Close up\, high definition photos work best.  Backgrounds will be removed in most photos. \nClasses at Third Act Brewery includes your first pint of craft beer or hard cider!  Additional Food and beverages are NOT INCLUDED and can be purchased from the hosting venue. \nWine and Canvas is an entertainment event similar to a concert\, dinner theater\, or movie theater.  Your credit card will be charged upon completion of your transaction.  Please arrive 10-15 minutes early to check in and get seated so we can start on time. \nPLEASE NOTE: PAINT YOUR PET CANVASES ARE CUSTOM PRINTED AND NOT REFUNDABLE ONCE PRINTED.  With advance notice before canvases have been printed\, we will reschedule or refund your registration\, minus a $5 processing fee.  For additional information\, please email melissap@wineandcanvas.com or call (612) 597-1302. \nClass Minimum Requirement: If the class minimum is not met\, the class will be canceled.  Please provide the best email and phone number when registering so we can notify you of any cancellations.
URL:https://wineandcanvas.com/minneapolis/event/paint-your-pet-includes-your-first-pint-of-craft-beer-or-hard-cider/
LOCATION:Third Act Brewery\, 4120 Radio Drive\, Woodbury\, 55129\, United States
CATEGORIES:Wine & Canvas
ATTACH;FMTTYPE=image/jpeg:https://wineandcanvas.com/minneapolis/wp-content/uploads/sites/71/2023/04/DM_Paint_Pet-scaled.jpg
END:VEVENT
BEGIN:VEVENT
DTSTART;TZID=America/Chicago:20260316T180000
DTEND;TZID=America/Chicago:20260316T210000
DTSTAMP:20260425T134740
CREATED:20260223T035245Z
LAST-MODIFIED:20260223T035245Z
UID:10000636-1773684000-1773694800@wineandcanvas.com
SUMMARY:Blue Sunset Mountain - includes your first pint of craft beer or hard cider! 
DESCRIPTION:The ticket price includes the use of all necessary paint supplies and aprons\, instruction by a professional and friendly local artist\, and a 16×20 gallery wrapped canvas! \nClasses at Third Act Brewery includes your first pint of craft beer or hard cider!  Additional Food and beverages are NOT INCLUDED and can be purchased from the hosting venue. \nWine and Canvas is an entertainment event much like a concert\, dinner theater or movie theater. Your credit card will be charged upon completion of your transaction. Wine and Canvas has a 48-hour cancellation policy; with 48 hours notice we will reschedule or refund your registration less a $5 processing fee for refunds. Please email melissap@wineandcanvas.com for additional information\, or call (612) 597-1302. \n  \nIf the class minimum is not met\, the class will be cancelled the day of the event\, so please use the best email and phone number to contact you when registering\, so we will be able to let you know of any cancellations. \nPlease LIKE us on Facebook!
URL:https://wineandcanvas.com/minneapolis/event/blue-sunset-mountain-includes-your-first-pint-of-craft-beer-or-hard-cider-2/
LOCATION:Third Act Brewery\, 4120 Radio Drive\, Woodbury\, 55129\, United States
CATEGORIES:Wine & Canvas
ATTACH;FMTTYPE=image/webp:https://wineandcanvas.com/minneapolis/wp-content/uploads/sites/71/2026/02/Blue-sunset-mountian-las-vegas.webp
END:VEVENT
BEGIN:VEVENT
DTSTART;TZID=America/Chicago:20260302T180000
DTEND;TZID=America/Chicago:20260302T210000
DTSTAMP:20260425T134740
CREATED:20260223T031925Z
LAST-MODIFIED:20260302T045800Z
UID:10000635-1772474400-1772485200@wineandcanvas.com
SUMMARY:Wave by the Moonlight - includes your first pint of craft beer or hard cider! 
DESCRIPTION:The ticket price includes the use of all necessary paint supplies and aprons\, instruction by a professional and friendly local artist\, and a 16×20 gallery wrapped canvas! \nClasses at Third Act Brewery includes your first pint of craft beer or hard cider!  Additional Food and beverages are NOT INCLUDED and can be purchased from the hosting venue. \nWine and Canvas is an entertainment event much like a concert\, dinner theater or movie theater. Your credit card will be charged upon completion of your transaction. Wine and Canvas has a 48-hour cancellation policy; with 48 hours notice we will reschedule or refund your registration less a $5 processing fee for refunds. Please email melissap@wineandcanvas.com for additional information\, or call (612) 597-1302. \n  \nIf the class minimum is not met\, the class will be cancelled the day of the event\, so please use the best email and phone number to contact you when registering\, so we will be able to let you know of any cancellations. \nPlease LIKE us on Facebook!
URL:https://wineandcanvas.com/minneapolis/event/wave-by-the-moonlight-includes-your-first-pint-of-craft-beer-or-hard-cider/
LOCATION:Third Act Brewery\, 4120 Radio Drive\, Woodbury\, 55129\, United States
CATEGORIES:Wine & Canvas
ATTACH;FMTTYPE=image/webp:https://wineandcanvas.com/minneapolis/wp-content/uploads/sites/71/2026/02/Wave-by-moonlight-Small.png.webp
END:VEVENT
BEGIN:VEVENT
DTSTART;TZID=America/Chicago:20260216T180000
DTEND;TZID=America/Chicago:20260216T210000
DTSTAMP:20260425T134740
CREATED:20260128T005203Z
LAST-MODIFIED:20260128T005203Z
UID:10000631-1771264800-1771275600@wineandcanvas.com
SUMMARY:Mill City Flour - includes your first pint of craft beer or hard cider! 
DESCRIPTION:The ticket price includes the use of all necessary paint supplies and aprons\, instruction by a professional and friendly local artist\, and a 16×20 gallery wrapped canvas! \nClasses at Third Act Brewery includes your first pint of craft beer or hard cider!  Additional Food and beverages are NOT INCLUDED and can be purchased from the hosting venue. \nWine and Canvas is an entertainment event much like a concert\, dinner theater or movie theater. Your credit card will be charged upon completion of your transaction. Wine and Canvas has a 48-hour cancellation policy; with 48 hours notice we will reschedule or refund your registration less a $5 processing fee for refunds. Please email melissap@wineandcanvas.com for additional information\, or call (612) 597-1302. \n  \nIf the class minimum is not met\, the class will be cancelled the day of the event\, so please use the best email and phone number to contact you when registering\, so we will be able to let you know of any cancellations. \nPlease LIKE us on Facebook!
URL:https://wineandcanvas.com/minneapolis/event/mill-city-flour/
LOCATION:Third Act Brewery\, 4120 Radio Drive\, Woodbury\, 55129\, United States
CATEGORIES:Wine & Canvas
ATTACH;FMTTYPE=image/jpeg:https://wineandcanvas.com/minneapolis/wp-content/uploads/sites/71/2026/01/Mill-City-Flour.jpg
END:VEVENT
BEGIN:VEVENT
DTSTART;TZID=America/Chicago:20260202T180000
DTEND;TZID=America/Chicago:20260202T210000
DTSTAMP:20260425T134740
CREATED:20260128T005117Z
LAST-MODIFIED:20260202T123838Z
UID:10000630-1770055200-1770066000@wineandcanvas.com
SUMMARY:Heart Birch - includes your first pint of craft beer or hard cider! 
DESCRIPTION:The ticket price includes the use of all necessary paint supplies and aprons\, instruction by a professional and friendly local artist\, and a 16×20 gallery wrapped canvas! \nClasses at Third Act Brewery includes your first pint of craft beer or hard cider!  Additional Food and beverages are NOT INCLUDED and can be purchased from the hosting venue. \nWine and Canvas is an entertainment event much like a concert\, dinner theater or movie theater. Your credit card will be charged upon completion of your transaction. Wine and Canvas has a 48-hour cancellation policy; with 48 hours notice we will reschedule or refund your registration less a $5 processing fee for refunds. Please email melissap@wineandcanvas.com for additional information\, or call (612) 597-1302. \n  \nIf the class minimum is not met\, the class will be cancelled the day of the event\, so please use the best email and phone number to contact you when registering\, so we will be able to let you know of any cancellations. \nPlease LIKE us on Facebook!
URL:https://wineandcanvas.com/minneapolis/event/heart-birch/
LOCATION:Third Act Brewery\, 4120 Radio Drive\, Woodbury\, 55129\, United States
CATEGORIES:Wine & Canvas
ATTACH;FMTTYPE=image/jpeg:https://wineandcanvas.com/minneapolis/wp-content/uploads/sites/71/2022/12/February_HeartBirch_originalGR_Cheri-1-scaled-1.jpg
END:VEVENT
BEGIN:VEVENT
DTSTART;TZID=America/Chicago:20260119T180000
DTEND;TZID=America/Chicago:20260119T210000
DTSTAMP:20260425T134740
CREATED:20251224T055722Z
LAST-MODIFIED:20260113T034337Z
UID:10000626-1768845600-1768856400@wineandcanvas.com
SUMMARY:Stone Arch at Night - includes your first pint of craft beer or hard cider! 
DESCRIPTION:The ticket price includes the use of all necessary paint supplies and aprons\, instruction by a professional and friendly local artist\, and a 16×20 gallery wrapped canvas! \nClasses at Third Act Brewery includes your first pint of craft beer or hard cider!  Additional Food and beverages are NOT INCLUDED and can be purchased from the hosting venue. \nWine and Canvas is an entertainment event much like a concert\, dinner theater or movie theater. Your credit card will be charged upon completion of your transaction. Wine and Canvas has a 48-hour cancellation policy; with 48 hours notice we will reschedule or refund your registration less a $5 processing fee for refunds. Please email melissap@wineandcanvas.com for additional information\, or call (612) 597-1302. \n  \nIf the class minimum is not met\, the class will be cancelled the day of the event\, so please use the best email and phone number to contact you when registering\, so we will be able to let you know of any cancellations. \nPlease LIKE us on Facebook!
URL:https://wineandcanvas.com/minneapolis/event/stone-arch-at-night/
LOCATION:Third Act Brewery\, 4120 Radio Drive\, Woodbury\, 55129\, United States
CATEGORIES:Wine & Canvas
ATTACH;FMTTYPE=image/png:https://wineandcanvas.com/minneapolis/wp-content/uploads/sites/71/2023/06/Stone-Arch-at-Night_Proxy.png
END:VEVENT
BEGIN:VEVENT
DTSTART;TZID=America/Chicago:20260105T180000
DTEND;TZID=America/Chicago:20260105T210000
DTSTAMP:20260425T134740
CREATED:20251224T053346Z
LAST-MODIFIED:20251224T053346Z
UID:10000625-1767636000-1767646800@wineandcanvas.com
SUMMARY:Starry Night Lighthouse - includes your first pint of craft beer or hard cider! 
DESCRIPTION:The ticket price includes the use of all necessary paint supplies and aprons\, instruction by a professional and friendly local artist\, and a 16×20 gallery wrapped canvas! \nClasses at Third Act Brewery includes your first pint of craft beer or hard cider!  Additional Food and beverages are NOT INCLUDED and can be purchased from the hosting venue. \nWine and Canvas is an entertainment event much like a concert\, dinner theater or movie theater. Your credit card will be charged upon completion of your transaction. Wine and Canvas has a 48-hour cancellation policy; with 48 hours notice we will reschedule or refund your registration less a $5 processing fee for refunds. Please email melissap@wineandcanvas.com for additional information\, or call (612) 597-1302. \n  \nIf the class minimum is not met\, the class will be cancelled the day of the event\, so please use the best email and phone number to contact you when registering\, so we will be able to let you know of any cancellations. \nPlease LIKE us on Facebook!
URL:https://wineandcanvas.com/minneapolis/event/starry-night-lighthouse/
LOCATION:Third Act Brewery\, 4120 Radio Drive\, Woodbury\, 55129\, United States
CATEGORIES:Wine & Canvas
ATTACH;FMTTYPE=image/jpeg:https://wineandcanvas.com/minneapolis/wp-content/uploads/sites/71/2025/12/Starry-Night-Light-house.jpg
END:VEVENT
BEGIN:VEVENT
DTSTART;TZID=America/Chicago:20251222T180000
DTEND;TZID=America/Chicago:20251222T210000
DTSTAMP:20260425T134740
CREATED:20251121T043959Z
LAST-MODIFIED:20251121T043959Z
UID:10000618-1766426400-1766437200@wineandcanvas.com
SUMMARY:Wish Upon a Star - includes your first pint of craft beer or hard cider! 
DESCRIPTION:The ticket price includes the use of all necessary paint supplies and aprons\, instruction by a professional and friendly local artist\, and an 18in pressed wood pallet. \nClasses at Third Act Brewery includes your first pint of craft beer or hard cider!  Additional Food and beverages are NOT INCLUDED and can be purchased from the hosting venue. \nWine and Canvas is an entertainment event much like a concert\, dinner theater or movie theater. Your credit card will be charged upon completion of your transaction. Wine and Canvas has a 48-hour cancellation policy; with 48 hours notice we will reschedule or refund your registration less a $5 processing fee for refunds. Please email melissap@wineandcanvas.com for additional information\, or call (612) 597-1302. \n  \nIf the class minimum is not met\, the class will be cancelled the day of the event\, so please use the best email and phone number to contact you when registering\, so we will be able to let you know of any cancellations. \nPlease LIKE us on Facebook!
URL:https://wineandcanvas.com/minneapolis/event/wish-upon-a-star-includes-your-first-pint-of-craft-beer-or-hard-cider-2/
LOCATION:Third Act Brewery\, 4120 Radio Drive\, Woodbury\, 55129\, United States
CATEGORIES:Wine & Canvas
ATTACH;FMTTYPE=image/png:https://wineandcanvas.com/minneapolis/wp-content/uploads/sites/71/2023/10/IMG_4072.png
END:VEVENT
BEGIN:VEVENT
DTSTART;TZID=America/Chicago:20251208T180000
DTEND;TZID=America/Chicago:20251208T210000
DTSTAMP:20260425T134740
CREATED:20251121T042952Z
LAST-MODIFIED:20251121T050910Z
UID:10000617-1765216800-1765227600@wineandcanvas.com
SUMMARY:Wine Grinch - includes your first pint of craft beer or hard cider! 
DESCRIPTION:The ticket price includes the use of all necessary paint supplies and aprons\, instruction by a professional and friendly local artist\, and a 16×20 gallery wrapped canvas! \nClasses at Third Act Brewery includes your first pint of craft beer or hard cider!  Additional Food and beverages are NOT INCLUDED and can be purchased from the hosting venue. \nWine and Canvas is an entertainment event much like a concert\, dinner theater or movie theater. Your credit card will be charged upon completion of your transaction. Wine and Canvas has a 48-hour cancellation policy; with 48 hours notice we will reschedule or refund your registration less a $5 processing fee for refunds. Please email melissap@wineandcanvas.com for additional information\, or call (612) 597-1302. \n  \nIf the class minimum is not met\, the class will be cancelled the day of the event\, so please use the best email and phone number to contact you when registering\, so we will be able to let you know of any cancellations. \nPlease LIKE us on Facebook!
URL:https://wineandcanvas.com/minneapolis/event/wine-grinch-includes-your-first-pint-of-craft-beer-or-hard-cider/
LOCATION:Third Act Brewery\, 4120 Radio Drive\, Woodbury\, 55129\, United States
CATEGORIES:Wine & Canvas
ATTACH;FMTTYPE=image/jpeg:https://wineandcanvas.com/minneapolis/wp-content/uploads/sites/71/2025/11/Wine-Grinch.jpg
END:VEVENT
BEGIN:VEVENT
DTSTART;TZID=America/Chicago:20251124T180000
DTEND;TZID=America/Chicago:20251124T210000
DTSTAMP:20260425T134740
CREATED:20251023T033424Z
LAST-MODIFIED:20251114T174808Z
UID:10000613-1764007200-1764018000@wineandcanvas.com
SUMMARY:Snowy Stream - includes your first pint of craft beer or hard cider! 
DESCRIPTION:The ticket price includes the use of all necessary paint supplies and aprons\, instruction by a professional and friendly local artist\, and a 16×20 gallery wrapped canvas! \nClasses at Third Act Brewery includes your first pint of craft beer or hard cider!  Additional Food and beverages are NOT INCLUDED and can be purchased from the hosting venue. \nWine and Canvas is an entertainment event much like a concert\, dinner theater or movie theater. Your credit card will be charged upon completion of your transaction. Wine and Canvas has a 48-hour cancellation policy; with 48 hours notice we will reschedule or refund your registration less a $5 processing fee for refunds. Please email melissap@wineandcanvas.com for additional information\, or call (612) 597-1302. \n  \nIf the class minimum is not met\, the class will be cancelled the day of the event\, so please use the best email and phone number to contact you when registering\, so we will be able to let you know of any cancellations. \nPlease LIKE us on Facebook!
URL:https://wineandcanvas.com/minneapolis/event/snowy-stream-includes-your-first-pint-of-craft-beer-or-hard-cider/
LOCATION:Third Act Brewery\, 4120 Radio Drive\, Woodbury\, 55129\, United States
CATEGORIES:Wine & Canvas
ATTACH;FMTTYPE=image/jpeg:https://wineandcanvas.com/minneapolis/wp-content/uploads/sites/71/2025/10/Snow-stream.jpg
END:VEVENT
BEGIN:VEVENT
DTSTART;TZID=America/Chicago:20251110T180000
DTEND;TZID=America/Chicago:20251110T210000
DTSTAMP:20260425T134740
CREATED:20251023T021520Z
LAST-MODIFIED:20251111T013227Z
UID:10000610-1762797600-1762808400@wineandcanvas.com
SUMMARY:Dripping Mushroom - includes your first pint of craft beer or hard cider! 
DESCRIPTION:The ticket price includes the use of all necessary paint supplies and aprons\, instruction by a professional and friendly local artist\, and a 16×20 gallery wrapped canvas! \nClasses at Third Act Brewery includes your first pint of craft beer or hard cider!  Additional Food and beverages are NOT INCLUDED and can be purchased from the hosting venue. \nWine and Canvas is an entertainment event much like a concert\, dinner theater or movie theater. Your credit card will be charged upon completion of your transaction. Wine and Canvas has a 48-hour cancellation policy; with 48 hours notice we will reschedule or refund your registration less a $5 processing fee for refunds. Please email melissap@wineandcanvas.com for additional information\, or call (612) 597-1302. \n  \nIf the class minimum is not met\, the class will be cancelled the day of the event\, so please use the best email and phone number to contact you when registering\, so we will be able to let you know of any cancellations. \nPlease LIKE us on Facebook!
URL:https://wineandcanvas.com/minneapolis/event/dripping-mushroom/
LOCATION:Third Act Brewery\, 4120 Radio Drive\, Woodbury\, 55129\, United States
CATEGORIES:Wine & Canvas
ATTACH;FMTTYPE=image/jpeg:https://wineandcanvas.com/minneapolis/wp-content/uploads/sites/71/2025/10/DRIPPING-MUSHROOM.jpg
END:VEVENT
BEGIN:VEVENT
DTSTART;TZID=America/Chicago:20251027T180000
DTEND;TZID=America/Chicago:20251027T210000
DTSTAMP:20260425T134740
CREATED:20250923T172351Z
LAST-MODIFIED:20251014T204650Z
UID:10000602-1761588000-1761598800@wineandcanvas.com
SUMMARY:Nightmare-ish - includes your first pint of craft beer or hard cider! 
DESCRIPTION:The ticket price includes the use of all necessary paint supplies and aprons\, instruction by a professional and friendly local artist\, and a 16×20 gallery wrapped canvas! \nClasses at Third Act Brewery includes your first pint of craft beer or hard cider!  Additional Food and beverages are NOT INCLUDED and can be purchased from the hosting venue. \nWine and Canvas is an entertainment event much like a concert\, dinner theater or movie theater. Your credit card will be charged upon completion of your transaction. Wine and Canvas has a 48-hour cancellation policy; with 48 hours notice we will reschedule or refund your registration less a $5 processing fee for refunds. Please email melissap@wineandcanvas.com for additional information\, or call (612) 597-1302. \n  \nIf the class minimum is not met\, the class will be cancelled the day of the event\, so please use the best email and phone number to contact you when registering\, so we will be able to let you know of any cancellations. \nPlease LIKE us on Facebook!
URL:https://wineandcanvas.com/minneapolis/event/nightmare-ish/
LOCATION:Third Act Brewery\, 4120 Radio Drive\, Woodbury\, 55129\, United States
CATEGORIES:Wine & Canvas
ATTACH;FMTTYPE=image/webp:https://wineandcanvas.com/minneapolis/wp-content/uploads/sites/71/2024/09/nightmarishjpg.webp
END:VEVENT
END:VCALENDAR