BEGIN:VCALENDAR
VERSION:2.0
PRODID:-//Wine and Canvas - Michigan - ECPv6.15.20//NONSGML v1.0//EN
CALSCALE:GREGORIAN
METHOD:PUBLISH
X-ORIGINAL-URL:https://wineandcanvas.com/michigan
X-WR-CALDESC:Events for Wine and Canvas - Michigan
REFRESH-INTERVAL;VALUE=DURATION:PT1H
X-Robots-Tag:noindex
X-PUBLISHED-TTL:PT1H
BEGIN:VTIMEZONE
TZID:America/New_York
BEGIN:DAYLIGHT
TZOFFSETFROM:-0500
TZOFFSETTO:-0400
TZNAME:EDT
DTSTART:20250309T070000
END:DAYLIGHT
BEGIN:STANDARD
TZOFFSETFROM:-0400
TZOFFSETTO:-0500
TZNAME:EST
DTSTART:20251102T060000
END:STANDARD
BEGIN:DAYLIGHT
TZOFFSETFROM:-0500
TZOFFSETTO:-0400
TZNAME:EDT
DTSTART:20260308T070000
END:DAYLIGHT
BEGIN:STANDARD
TZOFFSETFROM:-0400
TZOFFSETTO:-0500
TZNAME:EST
DTSTART:20261101T060000
END:STANDARD
BEGIN:DAYLIGHT
TZOFFSETFROM:-0500
TZOFFSETTO:-0400
TZNAME:EDT
DTSTART:20270314T070000
END:DAYLIGHT
BEGIN:STANDARD
TZOFFSETFROM:-0400
TZOFFSETTO:-0500
TZNAME:EST
DTSTART:20271107T060000
END:STANDARD
END:VTIMEZONE
BEGIN:VEVENT
DTSTART;TZID=America/New_York:20260529T180000
DTEND;TZID=America/New_York:20260529T200000
DTSTAMP:20260425T205715
CREATED:20260416T025017Z
LAST-MODIFIED:20260416T171444Z
UID:10001790-1780077600-1780084800@wineandcanvas.com
SUMMARY:Summer Dragonfly - Family Paint Party at Capital City Sweets - FREE ice cream with ticket
DESCRIPTION:Paint Party – Capital City Sweets – Lansing \nALL AGES ARE WELCOME! Follow along with a friendly local artist and paint this pre-sketched monarch design on an 11×14 canvas while you enjoy a FREE double scoop of ice cream from Capital City Sweets’ delicious ice cream selection.  \nThings to Know:\nLocation: 3112 E Michigan Ave\, Lansing\, MI 48912\nDate: Friday\, May 29th\nTime: 6:00 – 8:00 PM\nAge Range: Recommended 8+\nParking: Free Parking in lot behind building\nWheelchair Accessible: Yes \nTicket price includes a free double scoop of ice cream OR a $5 credit that can be applied towards the treat of your choice. (Ice cream must be redeemed the day of the event) \n\n\n\n***NO OUTSIDE FOOD AND BEVERAGE PERMITTED AT ANY OF OUR VENUES***\n\n\n\n What to Expect at this Paint and Sip: \nOur talented instructor\, Kellie\, will guide you step-by-step through the featured painting. No experience needed—just bring your creativity and a willingness to have fun! \n We Provide All Materials: \n11×14 Canvas\, paints\, brushes\, and aprons are included—just show up ready to create! \n Make It Your Own: \nWe love artistic freedom! Feel free to customize your painting and choose your own colors. Everyone leaves with a personal masterpiece. \n Reserve Your Seat: \nTickets are limited—secure yours today and don’t miss this fun night out! Great for friends\, couples\, and families. \n\n\n\nPlease LIKE us on Facebook to stay up to date on our latest news\, receive exclusive offers\, and view our event pictures.\n\n\n\n\n\nFollow on Instagram! \nPlease review the FAQ’s page for additional information. \nIf you are registering with a gift certificate and your credit card information is requested; your credit card will be charged. Please re-enter your code in the field or call 269-359-0070  for assistance. Contact Us \n\n\nImportant Info:\n\nCheck-in opens 15 minutes before the event starts.\nNo outside food or drinks allowed.\nPaint may stain\, therefore please dress accordingly! Wine & Canvas is not responsible for any damaged property\n48-hour notice required for cancellations/reschedules. Contact customer service\nIf you need a refund please request within 3 days of purchase. After that time period  a credit is given towards future events. Contact customer service\nAny Questions? Contact Us
URL:https://wineandcanvas.com/michigan/event/summer-dragonfly-family-paint-party-at-capital-city-sweets-free-ice-cream/
LOCATION:Capital City Sweets\, 3112 E Michigan Ave.\, Lansing\, MI\, 48912\, United States
CATEGORIES:Cookies & Canvas,LANSING,Wine & Canvas
ATTACH;FMTTYPE=image/jpeg:https://wineandcanvas.com/michigan/wp-content/uploads/sites/82/2022/06/Bright-Dragonfly-.jpeg
ORGANIZER;CN="Kellie":MAILTO:wineandcanvas.lansing@gmail.com
END:VEVENT
BEGIN:VEVENT
DTSTART;TZID=America/New_York:20260531T130000
DTEND;TZID=America/New_York:20260531T150000
DTSTAMP:20260425T205715
CREATED:20260406T004958Z
LAST-MODIFIED:20260415T014425Z
UID:10001779-1780232400-1780239600@wineandcanvas.com
SUMMARY:Family Paint Party at The Sideline Owosso
DESCRIPTION:🎨 Family Paint Party – Sideline Sports Bar – Owosso 🎨\nALL AGES WELCOME! Gather with friends and family at The Sideline and create this bold summery painting “To The Sea”! Enjoy delicious food and drinks from the restaurant while you follow along with our friendly local artist and create your masterpiece on an 11×14 canvas!  \nThings to Know:\nLocation: 219 South Washington\, Owosso MI 48867\nDate: Sunday\, May 31st\nTime: 1:00 – 3:00 PM\nAge Range: ALL AGES (8+ recommended)\nParking: Free Parking in Lot\nWheelchair Accessible: Yes \n\n\n\n***Alcohol is not included but our venues have a fabulous selection of food and beverages available for purchase! NO OUTSIDE FOOD AND BEVERAGE PERMITTED AT ANY OF OUR VENUES\n\n\n\n🖌️ What to Expect at this Paint and Sip: \nOur talented instructor\, Kellie\, will guide you step-by-step through the featured painting. No experience needed—just bring your creativity and a willingness to have fun! \n🎨 We Provide All Materials: \nCanvas\, paints\, brushes\, and aprons are included—just show up ready to create! \n🍷 Food & Drinks Available: \nYour ticket includes the painting session only. Food and drinks are not included. \n🎉 Make It Your Own: \nWe love artistic freedom! Feel free to customize your painting and choose your own colors. Everyone leaves with a personal masterpiece. \n🎟️ Reserve Your Seat: \nTickets are limited—secure yours today and don’t miss this fun night out! Great for friends\, couples\, and families. \n\n\n\nPlease LIKE us on Facebook to stay up to date on our latest news\, receive exclusive offers\, and view our event pictures.\n\n\n\n\n\nFollow on Instagram! \nPlease review the FAQ’s page for additional information. \nIf you are registering with a gift certificate and your credit card information is requested; your credit card will be charged. Please re-enter your code in the field or call 269-359-0070 for assistance. Contact Us \n\n\nImportant Info:\n\nCheck-in opens 15 minutes before the event starts.\nNo outside food or drinks allowed.\nPaint may stain\, therefore please dress accordingly! Wine & Canvas is not responsible for any damaged property\n48-hour notice required for cancellations/reschedules. Contact customer service\nIf you need a refund please request within 3 days of purchase. After that time period  a credit is given towards future events. Contact customer service\nAny Questions? Contact Us
URL:https://wineandcanvas.com/michigan/event/to-the-sea-all-ages-painting-party-at-the-sideline/
LOCATION:Sideline Sports Bar ~ Owosso\, 219 S Washington St\, Owosso\, MI\, 48867\, United States
CATEGORIES:LANSING,Wine & Canvas
ATTACH;FMTTYPE=image/jpeg:https://wineandcanvas.com/michigan/wp-content/uploads/sites/82/2023/02/to-the-sea-.jpg
ORGANIZER;CN="Kellie":MAILTO:wineandcanvas.lansing@gmail.com
GEO:42.9958488;-84.1703028
X-APPLE-STRUCTURED-LOCATION;VALUE=URI;X-ADDRESS=Sideline Sports Bar ~ Owosso 219 S Washington St Owosso MI 48867 United States;X-APPLE-RADIUS=500;X-TITLE=219 S Washington St:geo:-84.1703028,42.9958488
END:VEVENT
END:VCALENDAR