BEGIN:VCALENDAR
VERSION:2.0
PRODID:-//Wine and Canvas - Michigan - ECPv6.15.20//NONSGML v1.0//EN
CALSCALE:GREGORIAN
METHOD:PUBLISH
X-ORIGINAL-URL:https://wineandcanvas.com/michigan
X-WR-CALDESC:Events for Wine and Canvas - Michigan
REFRESH-INTERVAL;VALUE=DURATION:PT1H
X-Robots-Tag:noindex
X-PUBLISHED-TTL:PT1H
BEGIN:VTIMEZONE
TZID:America/New_York
BEGIN:DAYLIGHT
TZOFFSETFROM:-0500
TZOFFSETTO:-0400
TZNAME:EDT
DTSTART:20240310T070000
END:DAYLIGHT
BEGIN:STANDARD
TZOFFSETFROM:-0400
TZOFFSETTO:-0500
TZNAME:EST
DTSTART:20241103T060000
END:STANDARD
BEGIN:DAYLIGHT
TZOFFSETFROM:-0500
TZOFFSETTO:-0400
TZNAME:EDT
DTSTART:20250309T070000
END:DAYLIGHT
BEGIN:STANDARD
TZOFFSETFROM:-0400
TZOFFSETTO:-0500
TZNAME:EST
DTSTART:20251102T060000
END:STANDARD
BEGIN:DAYLIGHT
TZOFFSETFROM:-0500
TZOFFSETTO:-0400
TZNAME:EDT
DTSTART:20260308T070000
END:DAYLIGHT
BEGIN:STANDARD
TZOFFSETFROM:-0400
TZOFFSETTO:-0500
TZNAME:EST
DTSTART:20261101T060000
END:STANDARD
END:VTIMEZONE
BEGIN:VEVENT
DTSTART;TZID=America/New_York:20250511T130000
DTEND;TZID=America/New_York:20250511T160000
DTSTAMP:20260419T121228
CREATED:20250417T183729Z
LAST-MODIFIED:20251111T152901Z
UID:10001147-1746968400-1746979200@wineandcanvas.com
SUMMARY:Van Gogh Sunflowers - Mimosa Sunday Lansing - Mother's Day
DESCRIPTION:Paint and Sip | Mimosa Sunday\n\nMimosa Sunday!🎨 Grab your friends and get creative while you sip on mimosas!🥂🎨🎉Mimosas special $10 with up to 5 refills!  SIGN UP NOW! 💕 \n\n\nLeave your cares at the door and dive in to the paint party!  Sip your favorite wine or cocktail\, and unleash your inner artist!  Local artists inspire and instruct Wine and Canvas classes with step-by-step instructions to create your finished masterpiece.\n\n\n\n\n***Alcohol is not included.  Guests may bring in their own food and snacks to the studio. Our studio has Wine\, Beer\, and Wine Cocktails along with Water and Soda for purchase.  Outside beverages are not allowed. \nNO OUTSIDE BEVERAGE PERMITTED AT ANY OF OUR VENUES \n\n\n\n\n\n\nPlease LIKE us on Facebook to stay up to date on our latest news\, receive exclusive offers\, and view our event pictures. \nFollow on Instagram! \nWine and Canvas has a 48-hour cancellation policy; with 48 hours notice we will reschedule or refund your registration. With less than 48 hours notice\, you may still reschedule your ticket for another event. \nPlease review the FAQ’s page for additional information. \nIf you are registering with a gift certificate and your credit card information is requested; your credit card will be charged. Please re-enter your code in the field or call  616-970-1082 for assistance. \nContact Us
URL:https://wineandcanvas.com/michigan/event/van-gogh-sunflowers-mimosa-sunday-lansing-mothers-day/
LOCATION:Wine and Canvas – Cadillac – Mobile\, Cadillac\, MI\, 49601\, United States
CATEGORIES:CADILLAC,Wine & Canvas
ATTACH;FMTTYPE=image/jpeg:https://wineandcanvas.com/michigan/wp-content/uploads/sites/82/2023/03/Van-Gogh-Sunflowers.jpeg
GEO:42.2137073;-85.5875029
END:VEVENT
BEGIN:VEVENT
DTSTART;TZID=America/New_York:20250511T130000
DTEND;TZID=America/New_York:20250511T160000
DTSTAMP:20260419T121228
CREATED:20250417T182612Z
LAST-MODIFIED:20251110T152638Z
UID:10000688-1746968400-1746979200@wineandcanvas.com
SUMMARY:Mums for Mom - Mimosa Sunday - Mother's Day
DESCRIPTION:Mimosa Sunday!🎨 Grab your friends and get creative while you sip on mimosas!🥂🎨🎉Mimosas special $10 with up to 5 refills!  SIGN UP NOW! 💕 \nJoin us at our studio for step-by-step instructions on how to recreate this beautiful painting\, in a relaxed and fun\, artsy environment. Leave your cares at the door and dive on in to the paint party! \n\n\n\nTicket price includes use of all necessary paint supplies and aprons\, instruction by a professional and friendly local artist\, and a gallery wrapped 16×20 take home painting!!\n\n\nOur studio has Wine\, Beer\, and Wine Cocktails along with Water and Soda for purchase.  Outside beverages are not allowed.\n\n\n**** Please Note – Minimum age to attend this event is 14 years old***\n\n\n\n\nWine & Canvas \nPlease LIKE & follow us on Facebook to stay up to date on our latest news\, receive exclusive offers\, and view our event pictures. \nFollow on Instagram! \nWine and Canvas has a 48-hour cancellation policy; with 48 hours notice we will reschedule or refund your registration. With less than 48 hours notice\, you may still reschedule your ticket for another event. \nPlease review the FAQ’s page for additional information. \nIf you are registering with a gift certificate and your credit card information is requested; your credit card will be charged. Please re-enter your code in the field or call  616-970-1082 for assistance. Contact Us \nWine & Canvas \nPlease LIKE & follow us on Facebook to stay up to date on our latest news\, receive exclusive offers\, and view our event pictures. \nFollow on Instagram! \nfor assistance. Contact Us
URL:https://wineandcanvas.com/michigan/event/mums-for-mom-mimosa-sunday-mothers-day/
LOCATION:Wine and Canvas – Cadillac – Mobile\, Cadillac\, MI\, 49601\, United States
CATEGORIES:CADILLAC,Wine & Canvas
ATTACH;FMTTYPE=image/jpeg:https://wineandcanvas.com/michigan/wp-content/uploads/sites/82/2023/03/MUMS-for-Lizz-1.jpeg
GEO:42.2137073;-85.5875029
END:VEVENT
BEGIN:VEVENT
DTSTART;TZID=America/New_York:20250510T183000
DTEND;TZID=America/New_York:20250510T210000
DTSTAMP:20260419T121228
CREATED:20250422T134531Z
LAST-MODIFIED:20251107T151958Z
UID:10000574-1746901800-1746910800@wineandcanvas.com
SUMMARY:Moonlit Explosion - $3 Sangria Saturday Grand Rapids
DESCRIPTION:Paint and Sip | Sangria Saturday\nTwo paintings can match up to make one masterpiece!  Or paint the whole scene on one canvas.  1 ticket per person\n\nGrab your friends and get creative while you sip on $3 Sangrias!🥂🎨🎉SIGN UP NOW! 💕\n\n\nJoin us at our studio for step-by-step instructions on how to recreate this beautiful  painting while you sip on your favorite beverage\, in a relaxed and fun\, artsy environment.\n\n\nLeave your cares at the door and dive on in to the paint party!\n\n\nTicket price includes use of all necessary paint supplies and aprons\, instruction by a professional and friendly local artist\, and a 16 x 20 take home painting!\n\n\n**** Please Note – Minimum age to attend this event is 14 years old***\n\n\nOur studio has Wine\, Beer\, and Cocktails along with Water and Soda for purchase. Snacks are also available. Guests are welcomed to bring food and snacks into the studio.\n\n\nNO OUTSIDE BEVERAGE PERMITTED AT ANY OF OUR VENUES\n\n\n\nWine and Canvas \nPlease LIKE us on Facebook to stay up to date on our latest news\, receive exclusive offers\, and view our event pictures. \nFollow us on Instagram \nWine and Canvas has a 48-hour cancellation policy; with 48 hours notice we will reschedule or refund your registration. With less than 48 hours notice\, you may still reschedule your ticket for another event. \nPlease review the FAQ’s page for additional information. \nIf you are registering with a gift certificate and your credit card information is requested; your credit card will be charged. Please re-enter your code in the field or call the 616-970-1082 for assistance. \nContact Us
URL:https://wineandcanvas.com/michigan/event/moonlit-explosion-3-sangria-saturday-grand-rapids/
LOCATION:Wine and Canvas – Cadillac – Mobile\, Cadillac\, MI\, 49601\, United States
CATEGORIES:GRAND RAPIDS,Wine & Canvas
ATTACH;FMTTYPE=:
ORGANIZER;CN="Nechole Culp":MAILTO:nechole@wineandcanvas.com
GEO:42.2137073;-85.5875029
END:VEVENT
BEGIN:VEVENT
DTSTART;TZID=America/New_York:20250510T183000
DTEND;TZID=America/New_York:20250510T210000
DTSTAMP:20260419T121228
CREATED:20250418T154906Z
LAST-MODIFIED:20251110T152637Z
UID:10000693-1746901800-1746910800@wineandcanvas.com
SUMMARY:Under the Stars - Date Night - Mother's Day Weekend!
DESCRIPTION:Date Night\n\nTwo paintings match up to make one masterpiece! 🎨 Get creative with your Date Night\, while you enjoy $3 Sangrias! 🎨🍷🎉 \nSIGN UP NOW! 💕Seating is limited! \n\n\nJoin us at our studio for step-by-step instructions on how to recreate this beautiful painting\, in a relaxed and fun\, artsy environment. Leave your cares at the door and dive on in to the paint party!\n\n\nTicket price includes use of all necessary paint supplies and aprons\, instruction by a professional and friendly local artist\, and a gallery wrapped 16×20 take home painting!!\n\n\nOur studio has Wine\, Beer\, and Wine Cocktails along with Water and Soda for purchase.  Outside beverages are not allowed.\n\n\n**** Please Note – Minimum age to attend this event is 14 years old***\n\n\nPlease LIKE & follow us on Facebook to stay up to date on our latest news\, receive exclusive offers\, and view our event pictures. \nFollow on Instagram! \nWine and Canvas has a 48-hour cancellation policy; with 48 hours notice we will reschedule or refund your registration. With less than 48 hours notice\, you may still reschedule your ticket for another event. \nPlease review the FAQ’s page for additional information. \nIf you are registering with a gift certificate and your credit card information is requested; your credit card will be charged. Please re-enter your code in the field or call  616-970-1082 for assistance. \nContact Us
URL:https://wineandcanvas.com/michigan/event/date-night-mothers-day-weekend/
LOCATION:Wine and Canvas – Cadillac – Mobile\, Cadillac\, MI\, 49601\, United States
CATEGORIES:CADILLAC,Wine & Canvas
ATTACH;FMTTYPE=:
ORGANIZER;CN="Lizz":MAILTO:lizzpaints@gmail.com
GEO:42.2137073;-85.5875029
END:VEVENT
BEGIN:VEVENT
DTSTART;TZID=America/New_York:20250510T150000
DTEND;TZID=America/New_York:20250510T170000
DTSTAMP:20260419T121228
CREATED:20250422T135718Z
LAST-MODIFIED:20251107T151957Z
UID:10000576-1746889200-1746896400@wineandcanvas.com
SUMMARY:You and Me Turtles | Cookies and Canvas | Open to all ages!
DESCRIPTION:Cookies and Canvas are kid and teen inspired classes recommended for ages 5 and up!  Parents are welcome to register themselves to paint with their children or just come along to hang out! \nLeave your cares at the door and dive on in to the paint party! \nTicket price includes use of all necessary paint supplies and aprons\, instruction by a professional and friendly local artist\, and a 11×14 gallery wrapped\, take-home canvas and Cookies! \nOpen to all ages! \nOur studio has Wine\, Beer\, and Cocktails along with Water and Soda for purchase. Snacks are also available. \nCHILDREN UNDER AGE 13 ARE NOT TO BE LEFT ALONE AT THESE CLASSES!  A PARENT OR GUARDIAN MUST BE PRESENT AT ALL TIMES!  CLASSES ARE TAUGHT CLASSROOM STYLE\, ALL CHILDREN IN ATTENDANCE MUST BE SIGNED UP TO PAINT. \nPlease LIKE us on Facebook to stay up to date on our latest news\, receive exclusive offers\, and view our event pictures. \nWine and Canvas has a 48-hour cancellation policy; with 48 hours notice we will reschedule or refund your registration. With less than 48 hours notice\, you may still reschedule your ticket for another event. \nPlease review the FAQ’s page for additional information. \nIf you are registering with a gift certificate and your credit card information is requested; your credit card will be charged. Please re-enter your code in the field or call the 616-970-1082 for assistance. \nContact Us
URL:https://wineandcanvas.com/michigan/event/you-and-me-turtles-cookies-and-canvas-open-to-all-ages/
LOCATION:Wine and Canvas – Cadillac – Mobile\, Cadillac\, MI\, 49601\, United States
CATEGORIES:Cookies & Canvas,Family Class,GRAND RAPIDS
ATTACH;FMTTYPE=:
ORGANIZER;CN="Nechole Culp":MAILTO:nechole@wineandcanvas.com
GEO:42.2137073;-85.5875029
END:VEVENT
BEGIN:VEVENT
DTSTART;TZID=America/New_York:20250510T120000
DTEND;TZID=America/New_York:20250510T140000
DTSTAMP:20260419T121228
CREATED:20250414T193516Z
LAST-MODIFIED:20251110T152636Z
UID:10000687-1746878400-1746885600@wineandcanvas.com
SUMMARY:Shi’s Tenth Birthday - 11x14 - Spaceship
DESCRIPTION:Plan your party with Wine & Canvas!  Let’s put the ART in pARTy! \nWe have loads of fun project options for your private event! \n2 1/2-3 hour class: \n16 x 20 canvas:  $40 \nPressed Wood Pallet or 18” Wood Cut Out: $45 \nPaint your Pet 16×20 pre-printed canvas: $45 \n(pet photos and final payment due 10 days prior to event) \n1 1/2-2 hr class: \nPour Paint Workshop\, Canvas or MI 18” Wood Cut Out : $45 \nWine Glass Painting\, 2-20oz glass per person (in studio only) – $45 \nKids Friendly Parties Cookies & Canvas: $25- $30 \n11 x 14 canvas – $25 \nPaint or Pour Paint Workshop – 12” Wood Cut Out – $30 \nT-shirt Tye Dye Workshop – $25 \nTicket price includes use of all necessary paint supplies and aprons\, instruction by a professional and friendly local artist\, and your personalized take home artwork! \nGO SHOW EVENT ticket pricing does not include tables\, chairs\, food or drinks. \nFor in studio events: Guests may bring in their own food and snacks to the studio. Our studio has Wine\, Beer\, and Wine Cocktails along with Water and Soda for purchase.  Outside beverages are not allowed in studio. \nOur minimum Private Party is 10 paid seats for in studio events or 15 paid tickets for travel events\, If you have less than the minimum guests\, you can pay the total amount depending on the size of the project you choose. \nThe deposit is equal to 5 tickets is required when booking your event.  The deposit may be applied toward the minimum seats.  A final count and final payment is due 48 hrs prior to the event date. \nThank you for thinking of Wine & Canvas – a great way to party artsy!
URL:https://wineandcanvas.com/michigan/event/shis-tenth-birthday-11x14/
LOCATION:Wine and Canvas – Cadillac – Mobile\, Cadillac\, MI\, 49601\, United States
CATEGORIES:CADILLAC,Private Events
ATTACH;FMTTYPE=:
ORGANIZER;CN="Lizz":MAILTO:lizzpaints@gmail.com
GEO:42.2137073;-85.5875029
END:VEVENT
BEGIN:VEVENT
DTSTART;TZID=America/New_York:20250509T173000
DTEND;TZID=America/New_York:20250509T193000
DTSTAMP:20260419T121228
CREATED:20250429T180615Z
LAST-MODIFIED:20251107T151956Z
UID:10000581-1746811800-1746819000@wineandcanvas.com
SUMMARY:Birthday Party ~ 11x14 ~ Private Event - Firefly Sunset
DESCRIPTION:Let’s put the ART in pARTy! \nWe have several great options for your Private Event: \n2 1/2-3 hour class: \n16 x 20 canvas:  $40 \nPressed Wood Pallet or Wood Cut Out: $45 \n1 1/2-2 hr class: \nPour Paint Workshop\, Canvas or MI 18” Wood Cut Out : $45 \nWine Glass Painting (2 20oz glasses per person) $45 (in studio only) \n11 x 14: $25 – Cookies & Canvas Kids Class \n________________________________________________________________ \nTicket price includes use of all necessary paint supplies and aprons\, instruction by a professional and friendly local artist\, and a gallery wrapped\, take-home canvas or pallet! Guests may bring in their own food and snacks to the studio. Our studio has Wine\, Beer\, and Wine Cocktails along with Water and Soda for purchase.  Outside beverages are not allowed. \nOur minimum Private Party is 10 paid tickets  for in studio events.  If you have less than the minimum guests\, you can pay the total amount depending on the size of the project you choose. \nThe nonrefundable deposit (equal to 5 tickets) is required when booking your event.  The deposit may be applied toward the minimum seats.  A final count and final payment is due two business days before the event is held. \nThank you for thinking of Wine & Canvas – a great way to party artsy! \n\n\nIf you are registering with a gift certificate and your credit card information is requested; your credit card will be charged. Please re-enter your code in the field or call the 616-970-1082 for assistance.
URL:https://wineandcanvas.com/michigan/event/birthday-party-11x14-private-event/
LOCATION:Wine and Canvas – Cadillac – Mobile\, Cadillac\, MI\, 49601\, United States
CATEGORIES:GRAND RAPIDS,Private Events
ATTACH;FMTTYPE=image/jpeg:https://wineandcanvas.com/michigan/wp-content/uploads/sites/82/2023/03/ED_Firefly_Sunset-980x780-2.jpeg
ORGANIZER;CN="Nechole Culp":MAILTO:nechole@wineandcanvas.com
GEO:42.2137073;-85.5875029
END:VEVENT
BEGIN:VEVENT
DTSTART;TZID=America/New_York:20250508T180000
DTEND;TZID=America/New_York:20250508T203000
DTSTAMP:20260419T121228
CREATED:20250422T133112Z
LAST-MODIFIED:20251107T151955Z
UID:10000566-1746727200-1746736200@wineandcanvas.com
SUMMARY:Blossom Bridge - Wine and Canvas @ White Cloud
DESCRIPTION:Join us at for step-by-step instructions on how to recreate and personalize this beautiful  painting while you sip on your favorite beverage\, in a relaxed and fun\, artsy environment.\n\n\nLeave your cares at the door and dive on in to the paint party!\n\n\nTicket price includes use of all necessary paint supplies and aprons\, instruction by a professional and friendly local artist\, and a 16×20 gallery wrapped take home painting!\n\n\n**** Please Note – Minimum age to attend this event is 14 years old***\n\n\n\n\n\nNO OUTSIDE FOOD OR BEVERAGE PERMITTED; our venue has a fabulous selection foods & drinks available for purchase!\n\n\n\n\nPlease LIKE us on Facebook to stay up to date on our latest news\, receive exclusive offers\, and view our event pictures. \nWine and Canvas has a 48-hour cancellation policy; with 48 hours notice we will reschedule or refund your registration. With less than 48 hours notice\, you may still reschedule your ticket for another event. \nPlease review the FAQ’s page for additional information. \nIf you are registering with a gift certificate and your credit card information is requested; your credit card will be charged. Please re-enter your code in the field or call the 616-970-1082 for assistance. \nContact Us
URL:https://wineandcanvas.com/michigan/event/blossom-bridge-wine-and-canvas-white-cloud/
LOCATION:Shamrock Bar ~ White Cloud\, 1300 E 8th St\, White Cloud\, MI\, 49349\, United States
CATEGORIES:GRAND RAPIDS,Venue,Wine & Canvas
ATTACH;FMTTYPE=image/jpeg:https://wineandcanvas.com/michigan/wp-content/uploads/sites/82/2023/03/May_Bridge_Cheri_Copy-1-820x1024-2.jpg
ORGANIZER;CN="Tabby":MAILTO:tabbylp123@gmail.com
GEO:43.5391145;-85.7692477
X-APPLE-STRUCTURED-LOCATION;VALUE=URI;X-ADDRESS=Shamrock Bar ~ White Cloud 1300 E 8th St White Cloud MI 49349 United States;X-APPLE-RADIUS=500;X-TITLE=1300 E 8th St:geo:-85.7692477,43.5391145
END:VEVENT
END:VCALENDAR