BEGIN:VCALENDAR
VERSION:2.0
PRODID:-//Wine and Canvas - Michigan - ECPv6.15.20//NONSGML v1.0//EN
CALSCALE:GREGORIAN
METHOD:PUBLISH
X-WR-CALNAME:Wine and Canvas - Michigan
X-ORIGINAL-URL:https://wineandcanvas.com/michigan
X-WR-CALDESC:Events for Wine and Canvas - Michigan
REFRESH-INTERVAL;VALUE=DURATION:PT1H
X-Robots-Tag:noindex
X-PUBLISHED-TTL:PT1H
BEGIN:VTIMEZONE
TZID:America/Indiana/Indianapolis
BEGIN:DAYLIGHT
TZOFFSETFROM:-0500
TZOFFSETTO:-0400
TZNAME:EDT
DTSTART:20240310T070000
END:DAYLIGHT
BEGIN:STANDARD
TZOFFSETFROM:-0400
TZOFFSETTO:-0500
TZNAME:EST
DTSTART:20241103T060000
END:STANDARD
BEGIN:DAYLIGHT
TZOFFSETFROM:-0500
TZOFFSETTO:-0400
TZNAME:EDT
DTSTART:20250309T070000
END:DAYLIGHT
BEGIN:STANDARD
TZOFFSETFROM:-0400
TZOFFSETTO:-0500
TZNAME:EST
DTSTART:20251102T060000
END:STANDARD
BEGIN:DAYLIGHT
TZOFFSETFROM:-0500
TZOFFSETTO:-0400
TZNAME:EDT
DTSTART:20260308T070000
END:DAYLIGHT
BEGIN:STANDARD
TZOFFSETFROM:-0400
TZOFFSETTO:-0500
TZNAME:EST
DTSTART:20261101T060000
END:STANDARD
BEGIN:DAYLIGHT
TZOFFSETFROM:-0500
TZOFFSETTO:-0400
TZNAME:EDT
DTSTART:20270314T070000
END:DAYLIGHT
BEGIN:STANDARD
TZOFFSETFROM:-0400
TZOFFSETTO:-0500
TZNAME:EST
DTSTART:20271107T060000
END:STANDARD
END:VTIMEZONE
BEGIN:VEVENT
DTSTART;TZID=America/Indiana/Indianapolis:20260416T180000
DTEND;TZID=America/Indiana/Indianapolis:20260416T200000
DTSTAMP:20260424T113839
CREATED:20260218T160321Z
LAST-MODIFIED:20260304T043511Z
UID:10001710-1776362400-1776369600@wineandcanvas.com
SUMMARY:Vineyard Wine bottle painting-Private Event-Hart
DESCRIPTION:THIS DATE IS RESERVED FOR A PRIVATE PAINT PARTY – Wine Bottle Painting- Private Event-Hart MI\n\nThis Grand Rapids Corporate Team Event and other private events are an exclusive way to celebrate a special occasion with friends and coworkers. You pick the venue\, date\, time\, and project. Then\, we’ll come together and host an unforgettable paint and sip! \n\n Important Information:  \n\nPricing includes all the art supplies (canvas\, paint\, brushes\, etc..)\, table covers\, and aprons. \nThe artist will complete the setup/cleanup and guide everyone through the process of creating their Masterpiece they can take home.\nFood/beverages or tables/chairs are not provided if the event is held at an office/home/on-location.\nIf your event is held at one of our venue partner locations\, food/beverages for your guests may be arranged and purchased through the hosting venue.\n\nTerms and Conditions: \n\nTo confirm the Private Event booking the client must pay the deposit. This deposit is non-refundable but it is transferable for up to 1 year. \nBy submitting the deposit you agree to the “Terms and Conditions” listed on this page. \nThe painting portfolio will be sent to the client once the deposit is paid. \nPayment for the final headcount must be completed 24 hours before the event time/date (2 seats are covered with the deposit paid already). \nYou get up to 3 no-shows from the final headcount as long as it’s above the group minimum of 8 people.   \nA refund for the 3 seats will be processed post-event once we’ve confirmed the actual headcount above the minimum group size. \nWe are not financially responsible for paint on clothing or other surfaces during our events.\n\nWinter Weather Notice:\n\nIf we cancel due to weather your party will be able to either be fully refunded or can reschedule to a new date\nIf you need to cancel due to weather concerns\, we need 48 hours notice and the deposit is non-refundable but transferable.\nAny paid seats beyond the deposit has the option of refund or transferring to the new date\nIf you cancel under 48 hours there are no refunds available for any tickets but we can reschedule with 24 hours notice\n\nSchedule Your Grand Rapids Corporate Team Event\nWe are a mobile art studio so we can come to your home\, office\, or venue of choice. If you don’t have a venue in mind\, we will help you find a great restaurant in your area. Your booking does not include food & beverages. Be sure to order from the venue when you visit! \nAll events are booked in 3-hour windows\, excluding our Cookies & Canvas kids events that take only 2 hours to complete. Artists will handle setup and cleanup. We can do 2 hours if you have time restrictions\, but may need to simplify the project you pick. \nProject Ideas for a Grand Rapids Corporate Team Event\nCanvas – paint a scene step-by-step or create abstract splatter art \nMurals – everyone contributes an element to a larger work—perfect for team building! \nGlass Painting – each person chooses a design to create a custom glassware piece to take home \nWood Signs – paint on an state cutout or choose from other fun wood sign ideas \nPet Portraits – commemorate your fur baby with the purr-fect portrait \nCookies and Canvas – kids’ paint parties for artists ages 6+ \nPricing varies\, so contact us for a FREE quote today! \nCall: (866) 631-0226 \nEmail: support@wineandcanvas.com \nThe Benefits\nWhy have a team paint party? The reasons to celebrate are endless! Private events offer the perfect opportunity to reconnect with the people who matter most. Enjoy creating art in a relaxed environment. You need ZERO prior experience to get started! \nHere is a great article that will teach you about more of the benefits. CLICK HERE TO READ
URL:https://wineandcanvas.com/michigan/event/grand-rapids-team-event/
LOCATION:Annabelle Acres Vinyard & Winery\, 3893 E Harrison Rd\, Hart\, 49420\, United States
CATEGORIES:Go Show,GRAND RAPIDS,Private Events
ATTACH;FMTTYPE=image/png:https://wineandcanvas.com/michigan/wp-content/uploads/sites/82/2026/02/private-event26-large.png
ORGANIZER;CN="Amanda W":MAILTO:support@wineandcanvas.com
END:VEVENT
BEGIN:VEVENT
DTSTART;TZID=America/Indiana/Indianapolis:20260122T180000
DTEND;TZID=America/Indiana/Indianapolis:20260122T210000
DTSTAMP:20260424T113839
CREATED:20260105T135038Z
LAST-MODIFIED:20260117T170650Z
UID:10001627-1769104800-1769115600@wineandcanvas.com
SUMMARY:Paint and Sip - Winter Cardinals - Buckboard Bar and Grill
DESCRIPTION:🎨Buckboard Bar & Grill🎨 – “Winter Cardinals” Paint & Sip! \nLocation: 108 W Upton Ave Reed City Mi 49677 – Indoor Venue\nDate: January 22nd 2026\nTime: 6:00pm – 9:00pm \nAge Range: 14+ \nParking: Free \nWheelchair Accessible: Yes \nJoin us for a fun and creative evening of painting\, sipping\, and socializing at Buckboard Bar & Grill! Whether you’re an experienced artist or just looking for something new and creative to try\, this  themed paint night is the perfect way to kick back and have fun! \n \n🖌️ What to Expect: \nOur talented instructor\, Skiler\, will guide you step-by-step through the featured painting. No experience needed—just bring your creativity and a willingness to have fun! \n🎨 We Provide All Materials: \nCanvas\, paints\, brushes\, and aprons are included—just show up ready to create! \n🍷 Food & Drinks Available: \nYour ticket includes the painting session only. Alcohol is not included. Please enjoy Buckboard’s menu of delicious food and drinks available for purchase. \n🎉 Make It Your Own: \nWe love artistic freedom! Feel free to customize your painting and choose your own colors. Everyone leaves with a personal masterpiece. \n🎟️ Reserve Your Seat: \nTickets are limited—secure yours today and don’t miss this fun night out! Great for friends\, couples\, and families. \nImportant Info: \n\nCheck-in opens 15 minutes before the event starts.\nNo outside food or drinks allowed\, Please take a look at the menu\nPaint may stain\, therefore please dress accordingly! Wine & Canvas is not responsible for any damaged property\n48-hour notice required for cancellations/reschedules. Contact customer service\nIf you need a refund please request within 3 days of purchase. After that time period  a credit is given towards future events. Contact customer service\nAny Questions? Contact customer service\n\n 
URL:https://wineandcanvas.com/michigan/event/paint-and-sip-stay-winter-cardinals-buckboard-bar-and-grill/
LOCATION:Buckboard Bar And Grill\, 108 W Upton Ave\, Reed City\, MI\, 49677\, United States
CATEGORIES:CADILLAC,Go Show,Wine & Canvas
ATTACH;FMTTYPE=image/png:https://wineandcanvas.com/michigan/wp-content/uploads/sites/82/2026/01/Untitled-Real-Estate-Flyer.png
ORGANIZER;CN="Skiler":MAILTO:wineandcanvas.cadillac@gmail.com
END:VEVENT
BEGIN:VEVENT
DTSTART;TZID=America/Indiana/Indianapolis:20251218T180000
DTEND;TZID=America/Indiana/Indianapolis:20251218T210000
DTSTAMP:20260424T113839
CREATED:20250730T204829Z
LAST-MODIFIED:20251130T154748Z
UID:10000495-1766080800-1766091600@wineandcanvas.com
SUMMARY:Paint and Sip - Stay Warm Snowman - Buckboard Bar and Grill
DESCRIPTION:🎨Buckboard Bar & Grill🎨 – “Stay Warm Snowman” Paint & Sip! \nLocation: 108 W Upton Ave Reed City Mi 49677 – Indoor Venue\nDate: December 18th\nTime: 6:00pm – 9:00pm \nAge Range: 14+ \nParking: Free \nWheelchair Accessible: Yes \nJoin us for a fun and creative evening of painting\, sipping\, and socializing at Buckboard Bar & Grill! Whether you’re an experienced artist or just looking for something new and creative to try\, this  themed paint night is the perfect way to kick back and have fun! \n \n🖌️ What to Expect: \nOur talented instructor\, Skiler\, will guide you step-by-step through the featured painting. No experience needed—just bring your creativity and a willingness to have fun! \n🎨 We Provide All Materials: \nCanvas\, paints\, brushes\, and aprons are included—just show up ready to create! \n🍷 Food & Drinks Available: \nYour ticket includes the painting session only. Alcohol is not included. Please enjoy Buckboard’s menu of delicious food and drinks available for purchase. \n🎉 Make It Your Own: \nWe love artistic freedom! Feel free to customize your painting and choose your own colors. Everyone leaves with a personal masterpiece. \n🎟️ Reserve Your Seat: \nTickets are limited—secure yours today and don’t miss this fun night out! Great for friends\, couples\, and families. \nImportant Info: \n\nCheck-in opens 15 minutes before the event starts.\nNo outside food or drinks allowed\, Please take a look at the menu\nPaint may stain\, therefore please dress accordingly! Wine & Canvas is not responsible for any damaged property\n48-hour notice required for cancellations/reschedules. Contact customer service\nIf you need a refund please request within 3 days of purchase. After that time period  a credit is given towards future events. Contact customer service\nAny Questions? Contact customer service
URL:https://wineandcanvas.com/michigan/event/paint-and-sip-december-buckboard-bar-and-grill/
LOCATION:Buckboard Bar And Grill\, 108 W Upton Ave\, Reed City\, MI\, 49677\, United States
CATEGORIES:CADILLAC,Go Show,Wine & Canvas
ATTACH;FMTTYPE=image/jpeg:https://wineandcanvas.com/michigan/wp-content/uploads/sites/82/2025/07/Santa-Gnome.png.jpeg
ORGANIZER;CN="Skiler":MAILTO:wineandcanvas.cadillac@gmail.com
END:VEVENT
BEGIN:VEVENT
DTSTART;TZID=America/Indiana/Indianapolis:20251213T150000
DTEND;TZID=America/Indiana/Indianapolis:20251213T180000
DTSTAMP:20260424T113839
CREATED:20251108T174527Z
LAST-MODIFIED:20251209T032622Z
UID:10000638-1765638000-1765648800@wineandcanvas.com
SUMMARY:Paint and Sip - Santa Gnome - Cadillac Nutrition
DESCRIPTION:🎨Cadillac Nutrition🎨 – “Santa Gnome” Paint & Sip! \nLocation: 108 W Upton Ave Reed City Mi 49677 – Indoor Venue\nDate: December 12th\nTime: 5:00pm – 8:00pm \nAge Range: 14+ \nParking: Free \nWheelchair Accessible: Yes \nJoin us for a fun and creative evening of painting\, sipping\, and socializing at Cadillac Nutrition! Whether you’re an experienced artist or just looking for something new and creative to try\, this  themed paint night is the perfect way to kick back and have fun! \n \n🖌️ What to Expect: \nOur talented instructor\, Skiler\, will guide you step-by-step through the featured painting. No experience needed—just bring your creativity and a willingness to have fun! \n🎨 We Provide All Materials: \nCanvas\, paints\, brushes\, and aprons are included—just show up ready to create! \n🍷 Food & Drinks Available: \nYour ticket includes the painting session only. Alcohol is not included. Please enjoy Cadillac Nutritions Menu  of delicious food and drinks available for purchase. \n🎉 Make It Your Own: \nWe love artistic freedom! Feel free to customize your painting and choose your own colors. Everyone leaves with a personal masterpiece. \n🎟️ Reserve Your Seat: \nTickets are limited—secure yours today and don’t miss this fun night out! Great for friends\, couples\, and families. \nImportant Info: \n\nCheck-in opens 15 minutes before the event starts.\nNo outside food or drinks allowed\, Please take a look at the menu\nPaint may stain\, therefore please dress accordingly! Wine & Canvas is not responsible for any damaged property\n48-hour notice required for cancellations/reschedules. Contact customer service\nIf you need a refund please request within 3 days of purchase. After that time period  a credit is given towards future events. Contact customer service\nAny Questions? Contact customer service
URL:https://wineandcanvas.com/michigan/event/paint-and-sip-santa-gnome-cadillac-nutrition/
LOCATION:Cadillac Nutrition\, 1941 N Mitchell St\, Cadillac\, MI\, 49601\, United States
CATEGORIES:CADILLAC,Go Show,Wine & Canvas
ATTACH;FMTTYPE=image/png:https://wineandcanvas.com/michigan/wp-content/uploads/sites/82/2025/11/Santa-Gnome.png
ORGANIZER;CN="Skiler":MAILTO:wineandcanvas.cadillac@gmail.com
END:VEVENT
BEGIN:VEVENT
DTSTART;TZID=America/Indiana/Indianapolis:20251120T180000
DTEND;TZID=America/Indiana/Indianapolis:20251120T210000
DTSTAMP:20260424T113839
CREATED:20250730T175938Z
LAST-MODIFIED:20251119T153954Z
UID:10000494-1763661600-1763672400@wineandcanvas.com
SUMMARY:Paint and Sip - Snow Deer - Buckboard Bar and Grill
DESCRIPTION:🎨 Buckboard Bar & Grill 🎨 – “Snow Deer” Paint & Sip! \nLocation: 108 W Upton Ave Reed City Mi 49677 – Indoor Venue\nDate: November 20th\nTime: 6:00pm – 9:00pm \nAge Range: 14+ \nParking: Free \nWheelchair Accessible: Yes \nJoin us for a fun and creative evening of painting\, sipping\, and socializing at Buckboard Bar & Grill! Whether you’re an experienced artist or just looking for something new and creative to try\, this  themed paint night is the perfect way to kick back and have fun! \n🖌️ What to Expect: \nOur talented instructor\, Skiler\, will guide you step-by-step through the featured painting. No experience needed—just bring your creativity and a willingness to have fun! \n🎨 We Provide All Materials: \nCanvas\, paints\, brushes\, and aprons are included—just show up ready to create! \n🍷 Food & Drinks Available: \nYour ticket includes the painting session only. Alcohol is not included. Please enjoy Buckboard’s menu of delicious food and drinks available for purchase. \n🎉 Make It Your Own: \nWe love artistic freedom! Feel free to customize your painting and choose your own colors. Everyone leaves with a personal masterpiece. \n🎟️ Reserve Your Seat: \nTickets are limited—secure yours today and don’t miss this fun night out! Great for friends\, couples\, and families. \nImportant Info: \n\nCheck-in opens 15 minutes before the event starts.\nNo outside food or drinks allowed\, Please take a look at the menu\nPaint may stain\, therefore please dress accordingly! Wine & Canvas is not responsible for any damaged property\n48-hour notice required for cancellations/reschedules. Contact customer service\nIf you need a refund please request within 3 days of purchase. After that time period  a credit is given towards future events. Contact customer service\nAny Questions? Contact customer service
URL:https://wineandcanvas.com/michigan/event/paint-and-sip-snow-deer-buckboard-bar-and-grill/
LOCATION:Buckboard Bar And Grill\, 108 W Upton Ave\, Reed City\, MI\, 49677\, United States
CATEGORIES:CADILLAC,Go Show,Wine & Canvas
ATTACH;FMTTYPE=image/png:https://wineandcanvas.com/michigan/wp-content/uploads/sites/82/2025/11/Santa-Gnome-1.png
ORGANIZER;CN="Skiler":MAILTO:wineandcanvas.cadillac@gmail.com
END:VEVENT
BEGIN:VEVENT
DTSTART;TZID=America/Indiana/Indianapolis:20251023T180000
DTEND;TZID=America/Indiana/Indianapolis:20251023T210000
DTSTAMP:20260424T113839
CREATED:20250730T210452Z
LAST-MODIFIED:20250920T172541Z
UID:10000490-1761242400-1761253200@wineandcanvas.com
SUMMARY:Paint and Sip - October - Buckboard Bar and Grill
DESCRIPTION:🎨Buckboard Bar & Grill🎨 – “__________” Paint & Sip! \nLocation: 108 W Upton Ave Reed City Mi 49677 – Indoor Venue\nDate: October 23rd\nTime: 6:00pm – 9:00pm \nAge Range: 14+ \nParking: Free \nWheelchair Accessible: Yes \nJoin us for a fun and creative evening of painting\, sipping\, and socializing at Buckboard Bar & Grill! Whether you’re an experienced artist or just looking for something new and creative to try\, this  themed paint night is the perfect way to kick back and have fun! \n \n🖌️ What to Expect: \nOur talented instructor\, Skiler\, will guide you step-by-step through the featured painting. No experience needed—just bring your creativity and a willingness to have fun! \n🎨 We Provide All Materials: \nCanvas\, paints\, brushes\, and aprons are included—just show up ready to create! \n🍷 Food & Drinks Available: \nYour ticket includes the painting session only. Alcohol is not included. Please enjoy Buckboard’s menu of delicious food and drinks available for purchase. \n🎉 Make It Your Own: \nWe love artistic freedom! Feel free to customize your painting and choose your own colors. Everyone leaves with a personal masterpiece. \n🎟️ Reserve Your Seat: \nTickets are limited—secure yours today and don’t miss this fun night out! Great for friends\, couples\, and families. \nImportant Info: \n\nCheck-in opens 15 minutes before the event starts.\nNo outside food or drinks allowed\, Please take a look at the menu\nPaint may stain\, therefore please dress accordingly! Wine & Canvas is not responsible for any damaged property\n48-hour notice required for cancellations/reschedules. Contact customer service\nIf you need a refund please request within 3 days of purchase. After that time period  a credit is given towards future events. Contact customer service\nAny Questions? Contact customer service
URL:https://wineandcanvas.com/michigan/event/paint-and-sip-october-buckboard-bar-and-grill/
LOCATION:Buckboard Bar And Grill\, 108 W Upton Ave\, Reed City\, MI\, 49677\, United States
CATEGORIES:CADILLAC,Go Show,Wine & Canvas
ATTACH;FMTTYPE=image/png:https://wineandcanvas.com/michigan/wp-content/uploads/sites/82/2025/06/Untitled-design-e1749671562922.png
ORGANIZER;CN="Skiler":MAILTO:wineandcanvas.cadillac@gmail.com
END:VEVENT
BEGIN:VEVENT
DTSTART;TZID=America/Indiana/Indianapolis:20250925T180000
DTEND;TZID=America/Indiana/Indianapolis:20250925T210000
DTSTAMP:20260424T113839
CREATED:20250824T184209Z
LAST-MODIFIED:20250920T172435Z
UID:10000486-1758823200-1758834000@wineandcanvas.com
SUMMARY:Paint and Sip - Sunset in Michigan - Buccilli’s Pizza
DESCRIPTION:🎨 Buccilli’s Pizza 🎨 – “Sunset In Michigan” Paint & Sip! \nLocation: 2949 W. Houghton Lake Drive • Houghton Lake\, Michigan 48629– Indoor Venue\nDate: September 25th\nTime: 6:00pm – 9:00pm \nAge Range: 14+ \nParking: Free \nJoin us for a fun and creative evening of painting\, sipping\, and socializing at Buccilli’s! Whether you’re an experienced artist or just looking for something new and creative to try\, this  themed paint night is the perfect way to kick back and have fun! \n \n🖌️ What to Expect: \nOur talented instructor\, Skiler\, will guide you step-by-step through the featured painting. No experience needed—just bring your creativity and a willingness to have fun! \n🎨 We Provide All Materials: \nCanvas\, paints\, brushes\, and aprons are included—just show up ready to create! \n🍷 Food & Drinks Available: \nYour ticket includes the painting session only. Alcohol is not included. Please enjoy Buccilli’s Menu of delicious food and drinks available for purchase. \n🎉 Make It Your Own: \nWe love artistic freedom! Feel free to customize your painting and choose your own colors. Everyone leaves with a personal masterpiece. \n🎟️ Reserve Your Seat: \nTickets are limited—secure yours today and don’t miss this fun night out! Great for friends\, couples\, and families. \nImportant Info: \n\nCheck-in opens 15 minutes before the event starts.\nNo outside food or drinks allowed\, Please take a look at the menu\nPaint may stain\, therefore please dress accordingly! Wine & Canvas is not responsible for any damaged property\n48-hour notice required for cancellations/reschedules. Contact customer service\nIf you need a refund please request within 3 days of purchase. After that time period  a credit is given towards future events. Contact customer service\nAny Questions? Contact customer service
URL:https://wineandcanvas.com/michigan/event/paint-and-sip-sunset-in-michigan-buccillis/
LOCATION:Bucclli’s Pizza – Houghton Lake\, 2949 W. Houghton Lake Drive\, Houghton Lake\, MI\, 48629
CATEGORIES:CADILLAC,Go Show,Wine & Canvas
ATTACH;FMTTYPE=image/png:https://wineandcanvas.com/michigan/wp-content/uploads/sites/82/2025/08/Untitled-design-1.png
ORGANIZER;CN="Skiler":MAILTO:wineandcanvas.cadillac@gmail.com
END:VEVENT
END:VCALENDAR