BEGIN:VCALENDAR
VERSION:2.0
PRODID:-//Wine and Canvas - Indianapolis - ECPv6.15.20//NONSGML v1.0//EN
CALSCALE:GREGORIAN
METHOD:PUBLISH
X-ORIGINAL-URL:https://wineandcanvas.com/indianapolis
X-WR-CALDESC:Events for Wine and Canvas - Indianapolis
REFRESH-INTERVAL;VALUE=DURATION:PT1H
X-Robots-Tag:noindex
X-PUBLISHED-TTL:PT1H
BEGIN:VTIMEZONE
TZID:America/New_York
BEGIN:DAYLIGHT
TZOFFSETFROM:-0500
TZOFFSETTO:-0400
TZNAME:EDT
DTSTART:20250309T070000
END:DAYLIGHT
BEGIN:STANDARD
TZOFFSETFROM:-0400
TZOFFSETTO:-0500
TZNAME:EST
DTSTART:20251102T060000
END:STANDARD
BEGIN:DAYLIGHT
TZOFFSETFROM:-0500
TZOFFSETTO:-0400
TZNAME:EDT
DTSTART:20260308T070000
END:DAYLIGHT
BEGIN:STANDARD
TZOFFSETFROM:-0400
TZOFFSETTO:-0500
TZNAME:EST
DTSTART:20261101T060000
END:STANDARD
BEGIN:DAYLIGHT
TZOFFSETFROM:-0500
TZOFFSETTO:-0400
TZNAME:EDT
DTSTART:20270314T070000
END:DAYLIGHT
BEGIN:STANDARD
TZOFFSETFROM:-0400
TZOFFSETTO:-0500
TZNAME:EST
DTSTART:20271107T060000
END:STANDARD
END:VTIMEZONE
BEGIN:VEVENT
DTSTART;TZID=America/New_York:20260530T130000
DTEND;TZID=America/New_York:20260530T160000
DTSTAMP:20260419T135304
CREATED:20260218T223814Z
LAST-MODIFIED:20260306T170552Z
UID:10001090-1780146000-1780156800@wineandcanvas.com
SUMMARY:Indy Paint Party - Patio Cat
DESCRIPTION:Indy Paint Party – Patio Cat\nJoin us as we celebrate the release of Patio Cat IPA with a cozy\, creative Indy Paint Party you won’t want to miss! We’ll be painting our charming Patio Cats scene — two sweet silhouettes perched on a balcony under glowing string lights and a dreamy sunset sky — the perfect tribute to laid-back patio vibes. \nThis event is perfect for a fun afternoon with friends\, a unique date idea\, or a relaxing solo outing. No painting experience needed! \n🍺 Each ticket includes one pint of choice\, brewed just in time for this special event. The event will be held on the patio weather permitting. \n \n📅 When: Saturday\, May 30th\, 2026\n⏰ Time: 1:00 – 4:00 PM\n📍 Where: Upland Brewing College Ave \nWhether you’re a seasoned artist or a first-time painter\, Casey’s approachable style and expert instruction will have you leaving with a product you’ll be proud to display. \n🎟️ Tickets include:\n🎨 All painting supplies🍺 One can of Patio Cat🍽️ Access to Upland Brewing’s full food and drink menu (additional purchases separate) \nGrab your spot now—seats are limited for this one-of-a-kind creative experience! \nThe canvas size is 16×20. All art materials are provided\, including an apron in addition to brushes\, canvas\, and paints. If you have little to no painting experience\, it’s okay! Our professional artist will walk you through the process step-by-step. In addition\, the best part is you take home your creation to enjoy forever. \nAbout Our Indy Paint Party Venue:\nPlan to join us 15 minutes early to browse the Upland Brewing’s menu and order some delicious food & drink for your painting session.  \nHere at Upland Brewing\, our brewers are always experimenting\, putting their own spin on traditional brewing recipes with unique local ingredients. \nOur beers—from wood-aged sour ales to traditional ales and lagers—are as complex\, interesting and approachable as the people who make and enjoy them. \nPrivate Events:\nIf you have party of 8-20 people we can book a private painting party at Upland Brewing. Based on venue availability. Fill out the PRIVATE EVENT FORM TODAY. \nImportant Information:\n\nWe require 48 hours notice before the event start time to cancel or reschedule your reservation. No exceptions. 1/2 off voucher will be provided if cancelled within 48 hour time frame.\nRefunds are only offered within 3 days from the purchase date. After 3 days a credit will be given.\nRefunds not offered if cancelling less than 48 hours from the event start time.\nUnless stated on the ticket\, food and beverages are not included. No outside food or drink allowed. Support a local business!\nPricing is per person unless purchasing a “per couple” ticket\nWine and Canvas is not responsible for paint on customer or venue property.\nVisit our FAQ page to find more info about our policies and answers to your questions.\nHave more questions? Contact Customer Support by clicking here.
URL:https://wineandcanvas.com/indianapolis/event/indy-paint-party-patio-cat/
LOCATION:Upland Brewing College Ave\, 4842 N College Ave\, Indianapolis\, IN\, 46205\, United States
CATEGORIES:All Ages,Public Events,Wine & Canvas
ATTACH;FMTTYPE=image/png:https://wineandcanvas.com/indianapolis/wp-content/uploads/sites/3/2026/02/Patio-Cat.png
ORGANIZER;CN="Casey Martin":MAILTO:support@wineandcanvas.com
END:VEVENT
END:VCALENDAR