BEGIN:VCALENDAR
VERSION:2.0
PRODID:-//Wine and Canvas - Indianapolis - ECPv6.15.20//NONSGML v1.0//EN
CALSCALE:GREGORIAN
METHOD:PUBLISH
X-ORIGINAL-URL:https://wineandcanvas.com/indianapolis
X-WR-CALDESC:Events for Wine and Canvas - Indianapolis
REFRESH-INTERVAL;VALUE=DURATION:PT1H
X-Robots-Tag:noindex
X-PUBLISHED-TTL:PT1H
BEGIN:VTIMEZONE
TZID:America/Indiana/Indianapolis
BEGIN:DAYLIGHT
TZOFFSETFROM:-0500
TZOFFSETTO:-0400
TZNAME:EDT
DTSTART:20250309T070000
END:DAYLIGHT
BEGIN:STANDARD
TZOFFSETFROM:-0400
TZOFFSETTO:-0500
TZNAME:EST
DTSTART:20251102T060000
END:STANDARD
BEGIN:DAYLIGHT
TZOFFSETFROM:-0500
TZOFFSETTO:-0400
TZNAME:EDT
DTSTART:20260308T070000
END:DAYLIGHT
BEGIN:STANDARD
TZOFFSETFROM:-0400
TZOFFSETTO:-0500
TZNAME:EST
DTSTART:20261101T060000
END:STANDARD
BEGIN:DAYLIGHT
TZOFFSETFROM:-0500
TZOFFSETTO:-0400
TZNAME:EDT
DTSTART:20270314T070000
END:DAYLIGHT
BEGIN:STANDARD
TZOFFSETFROM:-0400
TZOFFSETTO:-0500
TZNAME:EST
DTSTART:20271107T060000
END:STANDARD
END:VTIMEZONE
BEGIN:VTIMEZONE
TZID:America/New_York
BEGIN:DAYLIGHT
TZOFFSETFROM:-0500
TZOFFSETTO:-0400
TZNAME:EDT
DTSTART:20250309T070000
END:DAYLIGHT
BEGIN:STANDARD
TZOFFSETFROM:-0400
TZOFFSETTO:-0500
TZNAME:EST
DTSTART:20251102T060000
END:STANDARD
BEGIN:DAYLIGHT
TZOFFSETFROM:-0500
TZOFFSETTO:-0400
TZNAME:EDT
DTSTART:20260308T070000
END:DAYLIGHT
BEGIN:STANDARD
TZOFFSETFROM:-0400
TZOFFSETTO:-0500
TZNAME:EST
DTSTART:20261101T060000
END:STANDARD
BEGIN:DAYLIGHT
TZOFFSETFROM:-0500
TZOFFSETTO:-0400
TZNAME:EDT
DTSTART:20270314T070000
END:DAYLIGHT
BEGIN:STANDARD
TZOFFSETFROM:-0400
TZOFFSETTO:-0500
TZNAME:EST
DTSTART:20271107T060000
END:STANDARD
END:VTIMEZONE
BEGIN:VEVENT
DTSTART;TZID=America/Indiana/Indianapolis:20260512T180000
DTEND;TZID=America/Indiana/Indianapolis:20260512T193000
DTSTAMP:20260419T150355
CREATED:20260415T153521Z
LAST-MODIFIED:20260415T153521Z
UID:10001123-1778608800-1778614200@wineandcanvas.com
SUMMARY:Carmel Cookies and Canvas - Mommy & Me Tree Hearts
DESCRIPTION:Carmel Cookies and Canvas – Mommy & Me Tree Hearts\nJoin us at the World Famous HOTBOYS – Carmel for a special Mother’s Day Mommy & Me Paint Party! 💐🎨 Create a heartwarming masterpiece together as you paint this adorable two-canvas design featuring vibrant heart-shaped trees—perfectly symbolizing the love between mom and child. \nThis beginner-friendly class is designed for all ages\, making it the perfect bonding experience for moms and their little ones. Each of you will paint your own canvas that comes together to form one beautiful\, meaningful piece—something you’ll treasure long after Mother’s Day. \nEnjoy a fun-filled evening with delicious food\, laughter\, and creativity! Kids eat FREE with the purchase of an adult meal\, and every guest receives a complimentary bag of cookies to make the night even sweeter. 🍗🍪👩‍👧‍👦 \n🎟️ Reserve your spot today—seats fill up fast\, and this special Mother’s Day experience is one you won’t want to miss! 💕 \n \n📅 When: Tuesday\, May 12th\, 2026\n⏰ Time: 6:00 – 7:30 PM\n📍 Where: World Famous HOTBOYS – Carmel \n🎟️ Tickets include:\n🎨 All painting supplies\n🌮 Access to World Famous HOTBOYS full menu (food and beverages purchased separately) \nKids Eat Free – W/ Adult purchase! \nGrab your spot now—seats are limited for this one-of-a-kind creative experience! \nCookies and Canvas events are for artists of all ages! The canvas size is 11×14. All art materials are provided\, including an apron in addition to brushes\, canvas\, and paints. If you have little to no painting experience\, it’s okay! Our professional artist will walk you through the process step-by-step. In addition\, the best part is you take home your creation to enjoy forever. \nAbout Our Carmel Cookies and Canvas:\nBold flavors & Community driven. World Famous HOTBOYS in Carmel is a one-of-a-kind establishment bringing the heat to the heart of Indiana. Big on crispy\, crave-worthy chicken & even bigger on good vibes. It’s the kind of restaurant where the flavors are bold\, the portions are generous\, and everyone feels like a regular\, even on your first visit. If you think you know chicken\, HOTBOYS will make you think twice… then come back for more. 🍗🔥 \nPlan to join us 15 minutes early to browse the World Famous HOTBOYS menu and order some delicious food for your painting session.  \nVisit their WEBSITE for more info. \nPrivate Events:\nIf you have party of 8-20 people we can book a private painting party at World Famous HOTBOYS – Carmel Based on venue availability. Fill out the PRIVATE EVENT FORM TODAY. \nImportant Information:\n\nWe require 48 hours notice before the event start time to cancel or reschedule your reservation. No exceptions.\nIn addition\, the ticket purchase does not include any food or beverages. No outside food or drink allowed. Support a local business!\nPricing is per person.\nFurther\, refunds are only offered within 3 days from the purchase date (not the event date).\nWine and Canvas is not responsible for paint on customer or venue property.\nVisit our FAQ page to find more info about our policies and answers to your questions.\nHave more questions? Contact Customer Support by clicking here.\n\n  \n 
URL:https://wineandcanvas.com/indianapolis/event/carmel-cookies-and-canvas-mommy-me-tree-hearts/
LOCATION:World Famous HOTBOYS- Carmel Paint and Sip\, 4335 W 106th St SUITE 1300\, Carmel\, IN\, 46032\, United States
CATEGORIES:All Ages,Cookies and Canvas,Public Events
ATTACH;FMTTYPE=image/png:https://wineandcanvas.com/indianapolis/wp-content/uploads/sites/3/2026/04/Mommy-Me.png
END:VEVENT
BEGIN:VEVENT
DTSTART;TZID=America/New_York:20260513T180000
DTEND;TZID=America/New_York:20260513T210000
DTSTAMP:20260419T150355
CREATED:20260415T155117Z
LAST-MODIFIED:20260415T155117Z
UID:10001125-1778695200-1778706000@wineandcanvas.com
SUMMARY:Greenwood Paint and Sip - Date Night Beach Sunset
DESCRIPTION:Greenwood Paint and Sip – Date Night Beach Sunset\nNow at Condado Tacos in Greenwood\, join us for a super fun and memorable Greenwood Paint and Sip event as we paint “Beach Sunset”! 🌴🌅 \nSpend your evening bringing to life this stunning beachside scene with a date\, friend or solo! The painting features a glowing sunset over the ocean\, swaying palm trees\, and two cozy chairs perfectly placed in the sand—just waiting for you and someone special to relax and take it all in. This vibrant\, tropical painting is the perfect mix of bold color and laid-back vibes. \nEnjoy an evening of laughter\, delicious margaritas\, tacos\, and creativity as you sip\, paint\, and unwind in a fun and welcoming atmosphere. 🍹🌮🎨 \n🎟️ Reserve your brush! \n \n📅 When: Wednesday\, May 13th\, 2026\n⏰ Time: 6:00 – 9:00 PM\n📍 Where: Condado Tacos Greenwood \n  \n🎟️ Tickets include:\n🎨 All painting supplies\n🌮 Access to Condado Tacos full menu (food and beverages purchased separately) \nGrab your spot now—seats are limited for this one-of-a-kind creative experience! \nThe canvas size is 16×20. All art materials are provided\, including an apron in addition to brushes\, canvas\, and paints. If you have little to no painting experience\, it’s okay! Our professional artist will walk you through the process step-by-step. In addition\, the best part is you take home your creation to enjoy forever. \nAbout Our Greenwood Paint and Sip:\nPlan to join us 15 minutes early to browse the Condado Tacos Greenwood menu and order some delicious food & drink for your painting session.  \nThis venue is all ages so you can bring the family. Suggested age is 13 or older. They do have a full food and drink menu available. Free parking available. \nVisit their WEBSITE for more info. \nPrivate Events:\nIf you have party of 8-20 people we can book a private painting party at Condado Tacos Greenwood Based on venue availability. Fill out the PRIVATE EVENT FORM TODAY. \nImportant Information:\n\nWe require 48 hours notice before the event start time to cancel or reschedule your reservation. No exceptions.\nRefunds are only offered within 3 days from the purchase date. After 3 days a credit will be given (cancellation policy supersedes refund policy).\nRefunds not offered if cancelling less than 48 hours from the event start time.\nUnless stated on the ticket\, food and beverages are not included. No outside food or drink allowed. Support a local business!\nPricing is per person unless purchasing a “per couple” ticket\nWine and Canvas is not responsible for paint on customer or venue property.\nVisit our FAQ page to find more info about our policies and answers to your questions.\nHave more questions? Contact Customer Support by clicking here.
URL:https://wineandcanvas.com/indianapolis/event/greenwood-paint-and-sip-date-night-beach-sunset/
LOCATION:Condado Tacos Greenwood\, 1901 E Stop 13 Rd\, Indianapolis\, IN\, 46227\, United States
CATEGORIES:All Ages,Public Events,Wine & Canvas
ATTACH;FMTTYPE=image/png:https://wineandcanvas.com/indianapolis/wp-content/uploads/sites/3/2026/04/DN-Beach-Sunset.png
END:VEVENT
BEGIN:VEVENT
DTSTART;TZID=America/New_York:20260526T180000
DTEND;TZID=America/New_York:20260526T210000
DTSTAMP:20260419T150355
CREATED:20260415T165044Z
LAST-MODIFIED:20260415T165044Z
UID:10001131-1779818400-1779829200@wineandcanvas.com
SUMMARY:Greenwood Paint and Sip - Desert Sunset
DESCRIPTION:Greenwood Paint and Sip – Desert Sunset\nNow at Condado Tacos in Greenwood is our super fun and memorable Greenwood Paint and Sip event called\, “Desert Sunset”. Join us for an evening of laughter\, delicious margs\, tacos\, and painting as we bring to life the a glorious sunset over a desert landscape. \n🎟️ Reserve your brush! \n \n📅 When: Tuesday\, May 26th\, 2026\n⏰ Time: 6:00 – 9:00 PM\n📍 Where: Condado Tacos Greenwood \n  \n🎟️ Tickets include:\n🎨 All painting supplies\n🌮 Access to Condado Tacos full menu (food and beverages purchased separately) \nGrab your spot now—seats are limited for this one-of-a-kind creative experience! \nThe canvas size is 16×20. All art materials are provided\, including an apron in addition to brushes\, canvas\, and paints. If you have little to no painting experience\, it’s okay! Our professional artist will walk you through the process step-by-step. In addition\, the best part is you take home your creation to enjoy forever. \nAbout Our Greenwood Paint and Sip:\nPlan to join us 15 minutes early to browse the Condado Tacos Greenwood menu and order some delicious food & drink for your painting session.  \nThis venue is all ages so you can bring the family. Suggested age is 13 or older. They do have a full food and drink menu available. Free parking available. \nVisit their WEBSITE for more info. \nPrivate Events:\nIf you have party of 8-20 people we can book a private painting party at Condado Tacos Greenwood Based on venue availability. Fill out the PRIVATE EVENT FORM TODAY. \nImportant Information:\n\nWe require 48 hours notice before the event start time to cancel or reschedule your reservation. No exceptions.\nRefunds are only offered within 3 days from the purchase date. After 3 days a credit will be given (cancellation policy supersedes refund policy).\nRefunds not offered if cancelling less than 48 hours from the event start time.\nUnless stated on the ticket\, food and beverages are not included. No outside food or drink allowed. Support a local business!\nPricing is per person unless purchasing a “per couple” ticket\nWine and Canvas is not responsible for paint on customer or venue property.\nVisit our FAQ page to find more info about our policies and answers to your questions.\nHave more questions? Contact Customer Support by clicking here.
URL:https://wineandcanvas.com/indianapolis/event/greenwood-paint-and-sip-desert-sunset/
LOCATION:Condado Tacos Greenwood\, 1901 E Stop 13 Rd\, Indianapolis\, IN\, 46227\, United States
CATEGORIES:All Ages,Public Events,Wine & Canvas
ATTACH;FMTTYPE=image/png:https://wineandcanvas.com/indianapolis/wp-content/uploads/sites/3/2026/04/Desert-Sunset.png
END:VEVENT
BEGIN:VEVENT
DTSTART;TZID=America/New_York:20260528T180000
DTEND;TZID=America/New_York:20260528T210000
DTSTAMP:20260419T150355
CREATED:20260415T165858Z
LAST-MODIFIED:20260415T170552Z
UID:10001132-1779991200-1780002000@wineandcanvas.com
SUMMARY:Broad Ripple Paint N Sip - Dancing Mushrooms
DESCRIPTION:Broad Ripple Paint N Sip – Mushrooms\nJoin us for a vibrant evening of art\, tacos\, and cocktails at Condado Tacos in Broad Ripple as we paint n sip “Dancing Mushrooms.”  \nThis piece is perfect for beginners and experienced painters alike. Whether you’re planning a fun night out with friends\, a creative date night\, or a solo evening of self-care\, you’ll love the relaxed & upbeat atmosphere. \n🎨 No experience needed — all supplies included🎟️ Seats are limited\, so reserve yours and make it a night to remember \n\n\n\n\n\n\n\n \nWhen: Tuesday\, May 28th\, 2026\nTime: 6:00 PM – 9:00 PM\nWhere: Condado Tacos – Broad Ripple \n🍹Sip on your favorite drinks\, savor seasonal bites\, and enjoy a night of creativity while painting your creation in a welcoming atmosphere. \n🎟️ Tickets include:\n🎨 All painting supplies\n🌮 Access to Condado’s full menu (food and beverages purchased separately) \nGrab your spot now—seats are limited for this one-of-a-kind creative experience! \nThe canvas size is 16×20. All art materials are provided\, including an apron in addition to brushes\, canvas\, and paints. If you have little to no painting experience\, it’s okay! Our professional artist will walk you through the process step-by-step. In addition\, the best part is you take home your creation to enjoy forever. \nAbout Our Broad Ripple Paint N Sip Venue:\nPlan to join us 15 minutes early to browse the Condado Tacos menu and order some delicious food & drink for your painting session.  \nCondado Tacos is a place to come as you are\, soak up the local vibe and feel connected with the community. It’s a one-of-a kind experience that reminds us who we are. What we love. And where we come from. Enjoy Condado’s vast selection of build-your-own-tacos. Limited paid street parking is available\, or try the parking garage next to Condado. Don’t forget\, this venue is good for all ages—bring the little ones! To learn more about Condado Tacos\, visit their WEBSITE. \nPrivate Events:\nIf this date doesn’t work and you have a group of 8 or more people\, contact us to book a private paint and sip at Condado Tacos. It’s  a great way to start an evening out with friends with a creative bang! Perfect for birthday celebrations\, team building\, and bachelorette parties. Bookings depend on the artist as well as the venue’s availability. CLICK HERE to request a quote. \nImportant Information: \n\nWe require 48 hours notice before the event start time to cancel or reschedule your reservation. No exceptions. 1/2 off voucher will be provided if cancelled within 48 hour time frame.\nRefunds are only offered within 3 days from the purchase date. After 3 days a credit will be given.\nRefunds not offered if cancelling less than 48 hours from the event start time.\nUnless stated on the ticket\, food and beverages are not included. No outside food or drink allowed. Support a local business!\nPricing is per person unless purchasing a “per couple” ticket\nWine and Canvas is not responsible for paint on customer or venue property.\nVisit our FAQ  page to find more info about our policies and answers to your questions.\nHave more questions? Contact Customer Support by clicking here.
URL:https://wineandcanvas.com/indianapolis/event/broad-ripple-paint-n-sip-dancing-mushrooms/
LOCATION:Condado Tacos Broad Ripple\, 838 Broad Ripple Ave\, Indianapolis\, 46220\, United States
CATEGORIES:All Ages,All Ages,Wine & Canvas
ATTACH;FMTTYPE=image/png:https://wineandcanvas.com/indianapolis/wp-content/uploads/sites/3/2026/04/Mushrooms-1.png
END:VEVENT
END:VCALENDAR