BEGIN:VCALENDAR
VERSION:2.0
PRODID:-//Wine and Canvas - Indianapolis - ECPv6.15.20//NONSGML v1.0//EN
CALSCALE:GREGORIAN
METHOD:PUBLISH
X-ORIGINAL-URL:https://wineandcanvas.com/indianapolis
X-WR-CALDESC:Events for Wine and Canvas - Indianapolis
REFRESH-INTERVAL;VALUE=DURATION:PT1H
X-Robots-Tag:noindex
X-PUBLISHED-TTL:PT1H
BEGIN:VTIMEZONE
TZID:America/New_York
BEGIN:DAYLIGHT
TZOFFSETFROM:-0500
TZOFFSETTO:-0400
TZNAME:EDT
DTSTART:20240310T070000
END:DAYLIGHT
BEGIN:STANDARD
TZOFFSETFROM:-0400
TZOFFSETTO:-0500
TZNAME:EST
DTSTART:20241103T060000
END:STANDARD
BEGIN:DAYLIGHT
TZOFFSETFROM:-0500
TZOFFSETTO:-0400
TZNAME:EDT
DTSTART:20250309T070000
END:DAYLIGHT
BEGIN:STANDARD
TZOFFSETFROM:-0400
TZOFFSETTO:-0500
TZNAME:EST
DTSTART:20251102T060000
END:STANDARD
BEGIN:DAYLIGHT
TZOFFSETFROM:-0500
TZOFFSETTO:-0400
TZNAME:EDT
DTSTART:20260308T070000
END:DAYLIGHT
BEGIN:STANDARD
TZOFFSETFROM:-0400
TZOFFSETTO:-0500
TZNAME:EST
DTSTART:20261101T060000
END:STANDARD
END:VTIMEZONE
BEGIN:VEVENT
DTSTART;TZID=America/New_York:20251202T183000
DTEND;TZID=America/New_York:20251202T213000
DTSTAMP:20260419T190622
CREATED:20250527T162906Z
LAST-MODIFIED:20250917T164934Z
UID:10000931-1764700200-1764711000@wineandcanvas.com
SUMMARY:BFF Indy Women's Holiday Glass Painting Party
DESCRIPTION:THIS DATE IS RESERVED FOR A PRIVATE PAINT PARTY – BFF Indy Women’s Holiday Glass Painting Party\nBFF Indy Downtown Painting Party and other private events are an exclusive way to celebrate a special occasion with friends and family. You pick the venue\, date\, time\, and project. Then\, we’ll come together and host an unforgettable paint and sip! \n\n Important Information:  \n\nPricing includes all the art supplies (canvas\, paint\, brushes\, etc..)\, table covers\, and aprons. \nThe artist will complete the setup/cleanup and guide everyone through the process of creating their Masterpiece they can take home.\nFood/beverages or tables/chairs are not provided if the event is held at an office/home/on-location.\nIf your event is held at one of our venue partner locations\, food/beverages for your guests may be arranged and purchased through the hosting venue.\nIf the event starts an hour or later than the confirmed time a late fee may be added calculated at the rate of $50 per hour. \nCustom painting is an extra flat fee of $50 and must be paid when the deposit is paid. \n\nTerms and Conditions: \n\nTo confirm the Private Event booking the client must pay the deposit. This deposit is non-refundable but it is transferable for up to 1 year. (Jessica will send the portfolio link once deposit is paid)\nBy submitting the deposit you agree to the “Terms and Conditions” listed on this page. \nThe painting portfolio will be sent to the client once the deposit is paid. \nPayment for the final headcount must be completed 24 hours before the event time/date (2 seats are covered with the deposit paid already). \nYou get up to 3 no-shows from the final headcount as long as it’s above the group minimum of 8 people.   \nA refund for the 3 seats will be processed post-event once we’ve confirmed the actual headcount above the minimum group size. \nWe are not financially responsible for paint on clothing or other surfaces during our events.\n\nSchedule Your Glass Painting Party\nWe are a mobile art studio so we can come to your home\, office\, or venue of choice. If you don’t have a venue in mind\, we will help you find a great restaurant in your area. Your booking does not include food & beverages. Be sure to order from the venue when you visit! \nAll events are booked in 3-hour windows\, excluding our Cookies & Canvas kids events that take only 2 hours to complete. Artists will handle setup and cleanup. We can do 2 hours if you have time restrictions\, but may need to simplify the project you pick. \nProject Ideas for Glass Painting Party\nCanvas – paint a scene step-by-step or create abstract splatter art \nMurals – everyone contributes an element to a larger work—perfect for team building! \nGlass Painting – each person chooses a design to create a custom glassware piece to take home \nWood Signs – paint on an state cutout or choose from other fun wood sign ideas \nPet Portraits – commemorate your fur baby with the purr-fect portrait \nCookies and Canvas – kids’ paint parties for artists ages 6+ \nPricing varies\, so contact us for a FREE quote today! \nPhone: (317) 349-7979 \nEmail: support@wineandcanvas.com \nThe Benefits\nWhy have a glass paint party? The reasons to celebrate are endless! Private events offer the perfect opportunity to reconnect with the people who matter most. Enjoy creating art in a relaxed environment. You need ZERO prior experience to get started! \nHere is a great article that will teach you about more of the benefits. CLICK HERE TO READ
URL:https://wineandcanvas.com/indianapolis/event/bff-indy-womens-holiday-glass-painting-party/
LOCATION:Condado Tacos Broad Ripple\, 838 Broad Ripple Ave\, Indianapolis\, 46220\, United States
CATEGORIES:Private Events
ATTACH;FMTTYPE=image/jpeg:https://wineandcanvas.com/indianapolis/wp-content/uploads/sites/3/2023/02/Private-Event-LOGO-ICON.jpeg
END:VEVENT
END:VCALENDAR