BEGIN:VCALENDAR
VERSION:2.0
PRODID:-//Wine and Canvas - Florida - ECPv6.15.20//NONSGML v1.0//EN
CALSCALE:GREGORIAN
METHOD:PUBLISH
X-ORIGINAL-URL:https://wineandcanvas.com/florida
X-WR-CALDESC:Events for Wine and Canvas - Florida
REFRESH-INTERVAL;VALUE=DURATION:PT1H
X-Robots-Tag:noindex
X-PUBLISHED-TTL:PT1H
BEGIN:VTIMEZONE
TZID:America/New_York
BEGIN:DAYLIGHT
TZOFFSETFROM:-0500
TZOFFSETTO:-0400
TZNAME:EDT
DTSTART:20240310T070000
END:DAYLIGHT
BEGIN:STANDARD
TZOFFSETFROM:-0400
TZOFFSETTO:-0500
TZNAME:EST
DTSTART:20241103T060000
END:STANDARD
BEGIN:DAYLIGHT
TZOFFSETFROM:-0500
TZOFFSETTO:-0400
TZNAME:EDT
DTSTART:20250309T070000
END:DAYLIGHT
BEGIN:STANDARD
TZOFFSETFROM:-0400
TZOFFSETTO:-0500
TZNAME:EST
DTSTART:20251102T060000
END:STANDARD
BEGIN:DAYLIGHT
TZOFFSETFROM:-0500
TZOFFSETTO:-0400
TZNAME:EDT
DTSTART:20260308T070000
END:DAYLIGHT
BEGIN:STANDARD
TZOFFSETFROM:-0400
TZOFFSETTO:-0500
TZNAME:EST
DTSTART:20261101T060000
END:STANDARD
BEGIN:DAYLIGHT
TZOFFSETFROM:-0500
TZOFFSETTO:-0400
TZNAME:EDT
DTSTART:20270314T070000
END:DAYLIGHT
BEGIN:STANDARD
TZOFFSETFROM:-0400
TZOFFSETTO:-0500
TZNAME:EST
DTSTART:20271107T060000
END:STANDARD
END:VTIMEZONE
BEGIN:VEVENT
DTSTART;TZID=America/New_York:20260128T180000
DTEND;TZID=America/New_York:20260128T210000
DTSTAMP:20260424T103015
CREATED:20251215T190012Z
LAST-MODIFIED:20260127T223812Z
UID:10000872-1769623200-1769634000@wineandcanvas.com
SUMMARY:Dunedin Paint Party - Art Deco Palm
DESCRIPTION:Dunedin Paint Party – Art Deco Palm\nJoin us at Caledonia Brewing for a vibrant Dunedin Paint Party as we create “Art Deco Palm\,” a bold\, retro-inspired tropical scene with glowing waves\, a crescent moon\, and a stylish palm tree that captures all the coastal-cool vibes. \nWhether you’re an experienced painter or just here for the chill atmosphere\, this event is all about unwinding\, sipping local brews\, and getting creative with color. \n🍻 Kick back with your favorite Caledonia craft beer\, connect with friends\, and enjoy a fun\, laid-back night in the heart of Dunedin.🎨 No experience needed—our instructor will guide you step-by-step! \n🎟️ Reserve your seat today and let the Art Deco vibes wash over you! 🌙✨ \n \n🖌️ When: Wednesday\, January 28th\, 2026\n🕒 Time: 6:00 – 9:00PM\n📍 Where: Caledonia Brewing\, Dunedin\, FL \n✨ Dunedin Paint Party Highlights:\n\nExpert instruction from Angie\nAll painting supplies provided\nDrinks and treats available for purchase from Caledonia Brewing\nA perfect way to unwind\, socialize\, and enjoy an evening of creativity!\n\nThe canvas size is 16×20. We provide all the art materials\, so you simply register online and then show up with an open mind ready for some creative fun. The artist will guide you step-by-step through the process to create a beautiful masterpiece that you can take home. \nAbout Our Dunedin Paint Party Venue:\nOur venue partners allow the use of their space so you can enjoy their great food and beverage options while creating your Masterpiece. Please come hungry/ thirsty to help support these local restaurant’s since they have been so kind by letting us host events at their locations. \nPlan to join us 15 minutes early to browse the Caledonia Brewing menu and order some delicious food & drink for your painting session. \nEnjoy the welcoming atmosphere of this charming locale while you unleash your creativity. Worried about parking? Don’t be! There’s free street parking right outside the venue\, therefore ensuring a hassle-free arrival. Additionally\, a public parking lot is located directly across the street\, providing even more convenience. Learn more about this venue HERE. \nPlease note that this event is exclusively for those aged 21 and older. It’s a perfect opportunity to enjoy a night out with friends or meet fellow beach enthusiasts. \nNo need to worry about art supplies because we’ve got you covered! Your ticket includes all the materials you’ll need to create your beach masterpiece. So\, just bring your enthusiasm and a willingness to explore your artistic side. \nSchedule a Private Event: \nIf the scheduled date doesn’t align with your plans and you’re looking for a Dunedin summer paint party experience for a group of 8 or more\, reach out to us to arrange a private painting party. It’s an excellent way to kickstart your evening with friends\, as well as infuse it with a burst of creativity. Ideal for birthday celebrations\, team-building exercises\, and bachelorette parties. The booking will depend on both the artist’s availability and the venue’s availability. To request a quote\, simply CLICK HERE. \nImportant Information:\nWe require 48 hours’ notice before the event start time to cancel or reschedule your reservation. No exceptions. \nThe ticket purchase does not include any food or beverages. No outside food or drink allowed. \nPricing is per person. \nRefunds are only offered within 3 days from the purchase date (not the event date). \nVisit our FAQ page to find more info about our policies as well as answers to other questions. \nHave more questions? Contact Customer Support by clicking here.
URL:https://wineandcanvas.com/florida/event/dunedin-paint-party-art-deco-palm/
LOCATION:Caledonia Brewing (Dunedin)\, 587 Main St.\, Dunedin\, FL\, 34698\, United States
CATEGORIES:21 and Over,TAMPA,Wine & Canvas
ATTACH;FMTTYPE=image/png:https://wineandcanvas.com/florida/wp-content/uploads/sites/83/2025/12/Art-Deco-Palm-1.png
ORGANIZER;CN="Alexis Beaudette":MAILTO:support@wineandcanvas.com
END:VEVENT
BEGIN:VEVENT
DTSTART;TZID=America/New_York:20260114T180000
DTEND;TZID=America/New_York:20260114T210000
DTSTAMP:20260424T103015
CREATED:20251215T181440Z
LAST-MODIFIED:20260120T194447Z
UID:10000870-1768413600-1768424400@wineandcanvas.com
SUMMARY:Tampa Sip and Paint - Bouquet of Roses
DESCRIPTION:Tampa Sip and Paint – Bouquet of Roses\nJoin us for a fun and relaxing Tampa Sip and Paint event as we create “Bouquet of Roses\,” a bold and vibrant still-life featuring rich pink blooms\, a deep purple vase\, and a classic wine bottle. It is perfect for painters of any level. \nWhether you’re an experienced artist or just here for the pizza and good vibes\, this class is all about unwinding\, sipping\, and letting your creativity shine. \n🍕 Arrive early to grab your favorite slice\, settle in\, and get ready for an evening filled with color\, laughs\, and a canvas you’ll love taking home.🎨 No experience needed—our instructor will guide you step-by-step! \n🎟 Seats are limited—reserve yours today and make it a night to remember! \n \n🖌️ When: Wednesday\, January 14th\, 2026\n🕒 Time: 6:00 PM – 9:00 PM\n📍 Where: Flippers Pizza\, Tampa\, FL \n🍕 Sip\, paint\, and enjoy delicious pizza while soaking in the laid-back\, creative atmosphere. Whether you’re looking for a fun night out\, a unique date idea\, or a way to unwind\, this event is for you! \n✨ Tampa Sip and Paint Highlights:\n\nAll painting supplies included\nDrinks and delicious food available for purchase from Flippers Pizza\nA perfect way to unwind\, socialize\, and toast to creativity!\n\nSeats are limited—reserve yours today and be part of this special debut event filled with creativity\, fun\, and great company! 🎨🍷✨ \nThe canvas size is 16×20. We provide all the art materials\, so you simply register online and then show up with an open mind ready for some creative fun. The artist will guide you step-by-step through the process to create a beautiful masterpiece that you can take home. \nAbout our Tampa Sip and Paint Venue:\nOur venue partners allow the use of their space so you can enjoy their great food and beverage options while creating your masterpiece. Please come hungry and thirsty to help support these local restaurants since they have been so kind by letting us host events at their locations. \nPlan to join us 15 minutes early to browse Flippers Pizza menu and order some delicious food & drink for your painting session. \nLocated at 201 N Dale Mabry Hwy in South Tampa\, Flippers Pizzeria is renowned for its fresh\, authentic brick oven pizzas. With over 30 artisanal toppings\, guests can craft their own culinary creations or choose from a selection of specialty pizzas\, sandwiches\, and salads. Complement your meal with a variety of wine and beer options available on-site. This all-ages venue offers a welcoming atmosphere\, making it an ideal spot for family gatherings\, casual outings\, or special events. Whether you’re dining in\, carrying out\, or opting for delivery\, Flippers Pizzeria ensures a delightful experience for everyone. Learn more at their WEBSITE! \nPrivate Paint and Sip Events:\nIf the date doesn’t work for you and you have a group of 8 people or more you can book a private painting party for the same price as a regular event! Get more information and check availability by visiting our PRIVATE EVENT FORM \nImportant Information:\nWe require 48 hours’ notice before the event start time to cancel or reschedule your reservation. No exceptions. \nThe ticket purchase does not include any food or beverages. \nPricing is per person. \nRefunds are only offered within 3 days from the purchase date (not the event date). \nVisit our FAQ page to find more info about our policies as well as answers to other questions. \nHave more questions? Contact Customer Support by clicking here.
URL:https://wineandcanvas.com/florida/event/tampa-sip-and-paint-bouquet-of-roses/
LOCATION:Flippers Pizzeria Tampa\, 201 N Dale Mabry Hwy\, Tampa\, FL\, 33609\, United States
CATEGORIES:All Ages,Public Events,TAMPA,Wine & Canvas
ATTACH;FMTTYPE=image/jpeg:https://wineandcanvas.com/florida/wp-content/uploads/sites/83/2025/12/B-A-Bouquet-of-Roses.jpg
ORGANIZER;CN="Alexis Beaudette":MAILTO:support@wineandcanvas.com
END:VEVENT
BEGIN:VEVENT
DTSTART;TZID=America/New_York:20251219T123000
DTEND;TZID=America/New_York:20251219T153000
DTSTAMP:20260424T103015
CREATED:20251110T153307Z
LAST-MODIFIED:20251110T153453Z
UID:10000828-1766147400-1766158200@wineandcanvas.com
SUMMARY:Corporate Holiday Staff Outing
DESCRIPTION:THIS DATE IS RESERVED FOR Corporate Holiday Staff Outing\nThis Corporate Holiday Staff Outing is an exclusive way for your team to bond through art. You pick the venue\, date\, time\, and project. Then\, we’ll come together and host an unforgettable paint party! \n \nWant to learn more about Wine and Canvas Tampa’s private events? \nSchedule a Corporate Holiday Staff Outing\nWe are a mobile art studio so we can come to your home\, office\, or venue of choice. If you don’t have a venue in mind\, we will help you find a great restaurant in your area. Your booking does not include food & beverages. Be sure to order from the venue when you visit! \nAll events are booked in 3-hour windows\, excluding our Cookies & Canvas kids events that take only 1.5 hours to complete. Artists will handle setup and cleanup. We can do adult parties in 2 hours if you have time restrictions\, but may need to simplify the project you pick. \n Important Information: \n\nPricing includes all the art supplies (canvas\, paint\, brushes\, etc..)\, table covers\, and aprons. \nThe artist will complete the setup/cleanup and guide everyone through the process of creating their Masterpiece they can take home.\nFood/beverages or tables/chairs are not provided if the event is held at an office/home/on-location.\nIf your event is held at one of our venue partner locations\, food/beverages for your guests may be arranged and purchased through the hosting venue.\nIf the event starts an hour or later than the confirmed time a late fee may be added calculated at the rate of $50 per hour. \nCustom painting is an extra flat fee of $50 and must be paid when the deposit is paid. \n\nTerms and Conditions: \n\nTo confirm the Private Painting Party booking the client must pay the deposit. This deposit is non-refundable but it is transferable for up to 1 year. \nBy submitting the deposit you agree to the “Terms and Conditions” listed on this page. \nThe painting portfolio will be sent to the client once the deposit is paid. \nPayment for the final headcount must be completed 24 hours before the event time/date (2 seats are covered with the deposit paid already). \nYou get up to 3 no-shows from the final headcount as long as it’s above the group minimum of 8 people.   \nA refund for the 3 seats will be processed post-event once we’ve confirmed the actual headcount above the minimum group size. \nWe are not financially responsible for paint on clothing or other surfaces during our events.\n\n\nProject Ideas for Corporate Holiday Staff Outing:\nCanvas – paint a scene step-by-step or create abstract splatter art \nMurals – everyone contributes an element to a larger work—perfect for team building! \nGlass Painting – each person chooses a design to create a custom glassware piece to take home \nWood Signs – paint on a Florida state cutout or choose from other fun wood sign ideas \nPet Portraits – commemorate your fur baby with the purr-fect portrait \nCookies and Canvas – kids’ paint parties for artists ages 6+ \nPricing varies\, so contact us for a FREE quote today! \nPhone: (866) 631-0226 \nEmail: support@wineandcanvas.com \nThe Benefits\nWhy have a paint party for a church group? The reasons to celebrate are endless! Private events offer the perfect opportunity to reconnect with the people who matter most. This allows groups to enjoy creating art in a relaxed environment. You need ZERO prior experience to get started! \nHere is a great article that will teach you about more of the benefits. CLICK HERE TO READ
URL:https://wineandcanvas.com/florida/event/corporate-holiday-staff-outing/
LOCATION:Wine and Canvas – Tampa\, All around town!\, Tampa\, FL\, 33605\, United States
CATEGORIES:Private Events,TAMPA
ATTACH;FMTTYPE=image/png:https://wineandcanvas.com/florida/wp-content/uploads/sites/83/2025/08/private-event26-large.png
ORGANIZER;CN="Alexis Beaudette":MAILTO:support@wineandcanvas.com
GEO:27.9446677;-82.4587775
X-APPLE-STRUCTURED-LOCATION;VALUE=URI;X-ADDRESS=Wine and Canvas – Tampa All around town! Tampa FL 33605 United States;X-APPLE-RADIUS=500;X-TITLE=All around town!:geo:-82.4587775,27.9446677
END:VEVENT
BEGIN:VEVENT
DTSTART;TZID=America/New_York:20251210T180000
DTEND;TZID=America/New_York:20251210T210000
DTSTAMP:20260424T103015
CREATED:20250914T205115Z
LAST-MODIFIED:20251121T140212Z
UID:10000783-1765389600-1765400400@wineandcanvas.com
SUMMARY:Tampa Paint Night - Gnome for the Holidays
DESCRIPTION:Tampa Paint Night – Gnome for the Holidays\n🎅🎨 Celebrate the season with a whimsical night of painting\, pizza\, and holiday cheer! Join us at Flippers Pizzeria (Tampa) as we create the adorable Gnome for the Holidays—a festive little guy made of pine branches and twinkling lights\, perfect for adding some holiday magic to your home. \nWhether you’re a seasoned artist or just here for the pizza and vibes\, this is your moment to shine! 🎁🌟 \n🍕 Come early to grab a slice and a seat—then let the sunset inspire your strokes.\n🎨 Leave with a masterpiece and memories as warm as the colors on your canvas! \n🎟 Seats are limited—reserve yours today! \n \n🖌️ When: Wednesday\, December 10th\, 2025\n🕒 Time: 6:00 PM – 9:00 PM\n📍 Where: Flippers Pizza\, Tampa\, FL \n🍕 Sip\, paint\, and enjoy delicious pizza while soaking in the laid-back\, creative atmosphere. Whether you’re looking for a fun night out\, a unique date idea\, or a way to unwind\, this event is for you! \n✨ Tampa Paint Night Highlights:\n\nAll painting supplies included\nDrinks and delicious food available for purchase from Flippers Pizza\nA perfect way to unwind\, socialize\, and toast to creativity!\n\nSeats are limited—reserve yours today and be part of this special debut event filled with creativity\, fun\, and great company! 🎨🍷✨ \nThe canvas size is 16×20. We provide all the art materials\, so you simply register online and then show up with an open mind ready for some creative fun. The artist will guide you step-by-step through the process to create a beautiful masterpiece that you can take home. \nAbout our Tampa Paint Night Venue:\nOur venue partners allow the use of their space so you can enjoy their great food and beverage options while creating your masterpiece. Please come hungry and thirsty to help support these local restaurants since they have been so kind by letting us host events at their locations. \nPlan to join us 15 minutes early to browse Flippers Pizza menu and order some delicious food & drink for your painting session. \nLocated at 201 N Dale Mabry Hwy in South Tampa\, Flippers Pizzeria is renowned for its fresh\, authentic brick oven pizzas. With over 30 artisanal toppings\, guests can craft their own culinary creations or choose from a selection of specialty pizzas\, sandwiches\, and salads. Complement your meal with a variety of wine and beer options available on-site. This all-ages venue offers a welcoming atmosphere\, making it an ideal spot for family gatherings\, casual outings\, or special events. Whether you’re dining in\, carrying out\, or opting for delivery\, Flippers Pizzeria ensures a delightful experience for everyone. Learn more at their WEBSITE! \nPrivate Paint and Sip Events:\nIf the date doesn’t work for you and you have a group of 8 people or more you can book a private painting party for the same price as a regular event! Get more information and check availability by visiting our PRIVATE EVENT FORM \nImportant Information:\nWe require 48 hours’ notice before the event start time to cancel or reschedule your reservation. No exceptions. \nThe ticket purchase does not include any food or beverages. \nPricing is per person. \nRefunds are only offered within 3 days from the purchase date (not the event date). \nVisit our FAQ page to find more info about our policies as well as answers to other questions. \nHave more questions? Contact Customer Support by clicking here.
URL:https://wineandcanvas.com/florida/event/tampa-paint-night-gnome-for-the-holidays/
LOCATION:Flippers Pizzeria Tampa\, 201 N Dale Mabry Hwy\, Tampa\, FL\, 33609\, United States
CATEGORIES:All Ages,Public Events,TAMPA,Wine & Canvas
ATTACH;FMTTYPE=image/jpeg:https://wineandcanvas.com/florida/wp-content/uploads/sites/83/2025/09/Gnome-For-The-Holidays.jpeg
ORGANIZER;CN="Alexis Beaudette":MAILTO:support@wineandcanvas.com
END:VEVENT
BEGIN:VEVENT
DTSTART;TZID=America/New_York:20251209T110000
DTEND;TZID=America/New_York:20251209T140000
DTSTAMP:20260424T103015
CREATED:20251106T151025Z
LAST-MODIFIED:20251106T151139Z
UID:10000826-1765278000-1765288800@wineandcanvas.com
SUMMARY:Pasco Education Foundation Holiday Party
DESCRIPTION:THIS DATE IS RESERVED FOR Pasco Education Foundation Holiday Party\nThis Pasco Education Foundation Holiday Party is an exclusive way for families to bond through art. You pick the venue\, date\, time\, and project. Then\, we’ll come together and host an unforgettable paint party! \n \nWant to learn more about Wine and Canvas Tampa’s private events? \nSchedule a Pasco Education Foundation Holiday Party\nWe are a mobile art studio so we can come to your home\, office\, or venue of choice. If you don’t have a venue in mind\, we will help you find a great restaurant in your area. Your booking does not include food & beverages. Be sure to order from the venue when you visit! \nAll events are booked in 3-hour windows\, excluding our Cookies & Canvas kids events that take only 1.5 hours to complete. Artists will handle setup and cleanup. We can do adult parties in 2 hours if you have time restrictions\, but may need to simplify the project you pick. \n Important Information: \n\nPricing includes all the art supplies (canvas\, paint\, brushes\, etc..)\, table covers\, and aprons. \nThe artist will complete the setup/cleanup and guide everyone through the process of creating their Masterpiece they can take home.\nFood/beverages or tables/chairs are not provided if the event is held at an office/home/on-location.\nIf your event is held at one of our venue partner locations\, food/beverages for your guests may be arranged and purchased through the hosting venue.\nIf the event starts an hour or later than the confirmed time a late fee may be added calculated at the rate of $50 per hour. \nCustom painting is an extra flat fee of $50 and must be paid when the deposit is paid. \n\nTerms and Conditions: \n\nTo confirm the Private Painting Party booking the client must pay the deposit. This deposit is non-refundable but it is transferable for up to 1 year. \nBy submitting the deposit you agree to the “Terms and Conditions” listed on this page. \nThe painting portfolio will be sent to the client once the deposit is paid. \nPayment for the final headcount must be completed 24 hours before the event time/date (2 seats are covered with the deposit paid already). \nYou get up to 3 no-shows from the final headcount as long as it’s above the group minimum of 8 people.   \nA refund for the 3 seats will be processed post-event once we’ve confirmed the actual headcount above the minimum group size. \nWe are not financially responsible for paint on clothing or other surfaces during our events.\n\n\nProject Ideas for Pasco Education Foundation Holiday Party:\nCanvas – paint a scene step-by-step or create abstract splatter art \nMurals – everyone contributes an element to a larger work—perfect for team building! \nGlass Painting – each person chooses a design to create a custom glassware piece to take home \nWood Signs – paint on a Florida state cutout or choose from other fun wood sign ideas \nPet Portraits – commemorate your fur baby with the purr-fect portrait \nCookies and Canvas – kids’ paint parties for artists ages 6+ \nPricing varies\, so contact us for a FREE quote today! \nPhone: (866) 631-0226 \nEmail: support@wineandcanvas.com \nThe Benefits\nWhy have a paint party for a church group? The reasons to celebrate are endless! Private events offer the perfect opportunity to reconnect with the people who matter most. This allows groups to enjoy creating art in a relaxed environment. You need ZERO prior experience to get started! \nHere is a great article that will teach you about more of the benefits. CLICK HERE TO READ
URL:https://wineandcanvas.com/florida/event/pasco-education-foundation-holiday-party/
LOCATION:Wine and Canvas – Tampa\, All around town!\, Tampa\, FL\, 33605\, United States
CATEGORIES:Private Events,TAMPA
ATTACH;FMTTYPE=image/png:https://wineandcanvas.com/florida/wp-content/uploads/sites/83/2025/08/private-event26-large.png
ORGANIZER;CN="Alexis Beaudette":MAILTO:support@wineandcanvas.com
GEO:27.9446677;-82.4587775
X-APPLE-STRUCTURED-LOCATION;VALUE=URI;X-ADDRESS=Wine and Canvas – Tampa All around town! Tampa FL 33605 United States;X-APPLE-RADIUS=500;X-TITLE=All around town!:geo:-82.4587775,27.9446677
END:VEVENT
END:VCALENDAR