BEGIN:VCALENDAR
VERSION:2.0
PRODID:-//Wine and Canvas - Columbus - ECPv6.15.20//NONSGML v1.0//EN
CALSCALE:GREGORIAN
METHOD:PUBLISH
X-ORIGINAL-URL:https://wineandcanvas.com/columbus
X-WR-CALDESC:Events for Wine and Canvas - Columbus
REFRESH-INTERVAL;VALUE=DURATION:PT1H
X-Robots-Tag:noindex
X-PUBLISHED-TTL:PT1H
BEGIN:VTIMEZONE
TZID:America/New_York
BEGIN:DAYLIGHT
TZOFFSETFROM:-0500
TZOFFSETTO:-0400
TZNAME:EDT
DTSTART:20250309T070000
END:DAYLIGHT
BEGIN:STANDARD
TZOFFSETFROM:-0400
TZOFFSETTO:-0500
TZNAME:EST
DTSTART:20251102T060000
END:STANDARD
BEGIN:DAYLIGHT
TZOFFSETFROM:-0500
TZOFFSETTO:-0400
TZNAME:EDT
DTSTART:20260308T070000
END:DAYLIGHT
BEGIN:STANDARD
TZOFFSETFROM:-0400
TZOFFSETTO:-0500
TZNAME:EST
DTSTART:20261101T060000
END:STANDARD
BEGIN:DAYLIGHT
TZOFFSETFROM:-0500
TZOFFSETTO:-0400
TZNAME:EDT
DTSTART:20270314T070000
END:DAYLIGHT
BEGIN:STANDARD
TZOFFSETFROM:-0400
TZOFFSETTO:-0500
TZNAME:EST
DTSTART:20271107T060000
END:STANDARD
END:VTIMEZONE
BEGIN:VEVENT
DTSTART;TZID=America/New_York:20260425T190000
DTEND;TZID=America/New_York:20260425T213000
DTSTAMP:20260425T132033
CREATED:20260403T145714Z
LAST-MODIFIED:20260405T152052Z
UID:10000923-1777143600-1777152600@wineandcanvas.com
SUMMARY:Serenity Above the Clouds / Paint and Sip Columbus
DESCRIPTION:Relax\, Paint\, Sip and Create Memories and Art with us!\n\n\n\n\n\n\n\nGrab your seat today for this colorful & easy painting “Serenity Above The Clouds”  led by the talented\, local artist Bryan! 🎨  So gather your friends for a girls night out\, create a perfect date night or escape into a solo art experience while you sip on your favorite beverage. So leave your cares at the door and dive on into the best paint and sip party in town at Wine and Canvas Columbus! One Free glass of house wine included with each ticket.\n\n\n \n\n\n\n🖌️ When: Saturday\, April 25th\n🕒 Time: 7:00 PM – 9:30 PM\n📍 Where: 2010 Crown Plaza Drive – Columbus \n✨ What’s Included:\n\nStep-by-step guidance from our talented instructor\nAll painting supplies provided\nDrink Special: One free glass of House Wine per Ticket\nA Relaxing and Fun Evening of Creativity\n\nSeats are limited\, so secure your spot today! Doors Open at 6:45pm therefore come early for the best seats! \nThe canvas size is 16×20. Even if you have little to no painting experience\, it’s okay! Our professional artist will walk you through the process step-by-step. The best part is you take home your creation to enjoy forever. \nPlan a Private Event:\nIf the date doesn’t work for you can book a Wine and Canvas private paint and sip experience at our studio!\nGet more information and check availability by visiting our PRIVATE EVENT FORM.  \nImportant Information:\n\nWe require 48 hours notice before the event start time to cancel or reschedule your reservation. No exceptions.\nFurther\, refunds are only offered within 3 days from the purchase date (not the event date).\nOur drink menu includes a wide array of wines\, signature cocktails\, beers and Hard Seltzers\nBecause of our liquor license\, Outside Alcoholic drinks are prohibited.\nWant to change colors? No Problem! Pick the Colors you want your painting to be\nMinimum age to attend this event is 14 years old\nWe are no longer located at Graceland shopping center\, so double check your driving app!\nPricing is per person\nGift Certificates are available: GIFT CERTIFICATE LINK\nParking available both front and behind the studio\nOur Events are perfect for a Girls Night Out\, Date Night\, or even solo time away from the weekday grind\nVisit our FAQ page to find more info about our policies and answers to your questions.\nHave more questions? Contact Customer Support by clicking here.
URL:https://wineandcanvas.com/columbus/event/serenity-above-the-clouds-paint-and-sip-columbus/
LOCATION:Columbus Studio\, 2010 Crown Plaza Drive\, Columbus\, OH\, 43235\, United States
CATEGORIES:Wine & Canvas
ATTACH;FMTTYPE=image/jpeg:https://wineandcanvas.com/columbus/wp-content/uploads/sites/76/2025/09/Above-the-Clouds-DR.jpg
ORGANIZER;CN="Bryan":MAILTO:bryansroom@gmail.com
END:VEVENT
BEGIN:VEVENT
DTSTART;TZID=America/New_York:20260501T190000
DTEND;TZID=America/New_York:20260501T213000
DTSTAMP:20260425T132033
CREATED:20260323T015114Z
LAST-MODIFIED:20260424T175106Z
UID:10000909-1777662000-1777671000@wineandcanvas.com
SUMMARY:Seaside Peace of Mind / Paint and Sip Columbus
DESCRIPTION:Relax\, Paint\, Sip & Create Memories at our studio!\n\nGrab your seat today for this calming painting “Seaside Peace of Mind”  led by the talented\, local artist Bryan! 🎨  So gather your friends for a girls night out\, create a perfect date night or escape into a solo art experience while you sip on your favorite beverage. So leave your cares at the door and dive on into the best paint and sip party in town at Wine and Canvas Columbus!\n\n\n \n\n\n\n🖌️ When: Friday\, May 1st\n🕒 Time: 7:00 PM – 9:30 PM\n📍 Where: 2010 Crown Plaza Drive – Columbus \n✨ What’s Included:\n\nStep-by-step guidance from our talented instructor\nAll painting supplies provided\nDrink Special: All Glasses of Wine are only $5 each!\nA Relaxing and Fun Evening of Creativity\n\nSeats are limited\, so secure your spot today! Doors Open at 6:45pm therefore come early for the best seats! \nThe canvas size is 16×20. Even if you have little to no painting experience\, it’s okay! Our professional artist will walk you through the process step-by-step. The best part is you take home your creation to enjoy forever. \nPlan a Private Event:\nIf the date doesn’t work for you can book a Wine and Canvas private paint and sip experience at our studio!\nGet more information and check availability by visiting our PRIVATE EVENT FORM.  \nImportant Information:\n\nWe require 48 hours notice before the event start time to cancel or reschedule your reservation. No exceptions.\nFurther\, refunds are only offered within 3 days from the purchase date (not the event date).\nOur drink menu includes a wide array of wines\, signature cocktails\, beers and Hard Seltzers\nBecause of our liquor license\, Outside Alcoholic drinks are prohibited.\nWant to change colors? No Problem! Pick the Colors you want your painting to be\nMinimum age to attend this event is 14 years old\nWe are no longer located at Graceland shopping center\, so double check your driving app!\nPricing is per person\nGift Certificates are available: GIFT CERTIFICATE LINK\nParking available in both front and back of studio\nOur Events are perfect for a Girls Night Out\, Date Night\, or even solo time away from the weekday grind\nVisit our FAQ page to find more info about our policies and answers to your questions.\nHave more questions? Contact Customer Support by clicking here.
URL:https://wineandcanvas.com/columbus/event/along-the-twilight-path-paint-and-sip-columbus/
LOCATION:Columbus Studio\, 2010 Crown Plaza Drive\, Columbus\, OH\, 43235\, United States
CATEGORIES:Wine & Canvas
ATTACH;FMTTYPE=image/jpeg:https://wineandcanvas.com/columbus/wp-content/uploads/sites/76/2026/03/Seaside-Grasses-MA-scaled.jpg
ORGANIZER;CN="Bryan":MAILTO:bryansroom@gmail.com
END:VEVENT
BEGIN:VEVENT
DTSTART;TZID=America/New_York:20260502T190000
DTEND;TZID=America/New_York:20260502T213000
DTSTAMP:20260425T132033
CREATED:20260320T170040Z
LAST-MODIFIED:20260424T175413Z
UID:10000931-1777748400-1777757400@wineandcanvas.com
SUMMARY:Monet's Water Lillies / Paint and Sip Columbus
DESCRIPTION:Join us for the Art\, leave with the wonderful memories!\n\nGrab your seat today for this fun and easy painting “Monet’s Water Lillies”  instructed by our fan favorite local artist Kaitlyn! 🎨  So\, gather your friends for a girls night out or create a perfect date night while you sip on your favorite beverage. So leave your cares at the door and dive on into the best sip and paint party in town at Wine and Canvas Columbus!\n\n\n \n\n\n\n🖌️ When: Saturday\, May 2nd\n🕒 Time: 7:00 PM – 9:30 PM\n📍 Where: 2010 Crown Plaza Drive – Columbus \n✨ What’s Included:\n\nStep-by-step guidance from our talented instructor\nAll painting supplies provided\nNightly Drink Special: All Cocktails are only $5 each!\nA Relaxing and Fun Evening of Creativity\n\nSeats are limited\, so secure your spot today! Doors Open at 6:45pm therefore come early for the best seats! \nThe canvas size is 16×20. Even if you have little to no painting experience\, it’s okay! Our professional artist will walk you through the process step-by-step. The best part is you take home your creation to enjoy forever. \nPlan a Private Event:\nIf the date doesn’t work for you can book a Wine and Canvas private paint and sip experience at our studio!\nGet more information and check availability by visiting our PRIVATE EVENT FORM.  \nImportant Information:\n\nWe require 48 hours notice before the event start time to cancel or reschedule your reservation. No exceptions.\nFurther\, refunds are only offered within 3 days from the purchase date (not the event date).\nOur drink menu includes a wide array of wines\, signature cocktails\, beers and Hard Seltzers\nBecause of our liquor license\, Outside Alcoholic drinks are prohibited.\nWant to change colors? No Problem! Pick the Colors you want your painting to be\nMinimum age to attend this event is 14 years old\nWe are no longer located at Graceland shopping center\, so double check your driving app!\nPricing is per person\nIf fewer than five painters are registered 6 hours before an event\, we may need to cancel. You will be notified by email and may choose a full refund or reschedule into another class.\nGift Certificates are available: GIFT CERTIFICATE LINK\nOur Events are perfect for a Girls Night Out\, Date Night\, or even solo time away from the weekday grind\nVisit our FAQ page to find more info about our policies and answers to your questions.\nHave more questions? Contact Customer Support by clicking here.
URL:https://wineandcanvas.com/columbus/event/the-twilight-moon-paint-and-sip-columbus/
LOCATION:Columbus Studio\, 2010 Crown Plaza Drive\, Columbus\, OH\, 43235\, United States
CATEGORIES:Wine & Canvas
ATTACH;FMTTYPE=image/webp:https://wineandcanvas.com/columbus/wp-content/uploads/sites/76/2026/03/IMG_2640.webp
ORGANIZER;CN="Kaitlyn Kendall":MAILTO:kk3nda11@gmail.com
END:VEVENT
BEGIN:VEVENT
DTSTART;TZID=America/New_York:20260508T190000
DTEND;TZID=America/New_York:20260508T213000
DTSTAMP:20260425T132033
CREATED:20260424T170543Z
LAST-MODIFIED:20260424T214802Z
UID:10000936-1778266800-1778275800@wineandcanvas.com
SUMMARY:Spring Wine Bottle / Image Pre-drawn / Paint and Sip Columbus
DESCRIPTION:Mother’s Day Special!\n\nGrab your seat today for the perfect Mother’s Day weekend idea!  this fun and easy painting “Spring Wine Bottle” is  instructed by our fan favorite local artist Bryan! 🎨  Image is pre-sketched onto the canvas by our artist so gather your friends for a girls night out\, create a perfect date night or escape into a solo art experience while you sip on your favorite beverage. So leave your cares at the door and dive on into the best sip and paint party in town at Wine and Canvas Columbus!\n\n\n \n\n\n\n🖌️ When: Friday\, May 8th\n🕒 Time: 7:00 PM – 9:30 PM\n📍 Where: 2010 Crown Plaza Drive – Columbus \n✨ What’s Included:\n\nStep-by-step guidance from our talented instructor\nAll painting supplies provided\nNightly Drink Special: One Free glass of wine per each GA ticket\nImage is pre-sketched onto the canvas for you\nA Relaxing and Fun Evening of Creativity\n\nSeats are limited\, so secure your spot today! Doors Open at 6:45pm therefore come early for the best seats! \nThe canvas size is 16×20. Even if you have little to no painting experience\, it’s okay! Our professional artist will walk you through the process step-by-step. The best part is you take home your creation to enjoy forever. \nPlan a Private Event:\nIf the date doesn’t work for you can book a Wine and Canvas private paint and sip experience at our studio!\nGet more information and check availability by visiting our PRIVATE EVENT FORM.  \nImportant Information:\n\nWe require 48 hours notice before the event start time to cancel or reschedule your reservation. No exceptions.\nFurther\, refunds are only offered within 3 days from the purchase date (not the event date).\nOur drink menu includes a wide array of wines\, signature cocktails\, beers and Hard Seltzers\nBecause of our liquor license\, Outside Alcoholic drinks are prohibited.\nWant to change colors? No Problem! Pick the Colors you want your painting to be\nMinimum age to attend this event is 14 years old\nWe are no longer located at Graceland shopping center\, so double check your driving app!\nPricing is per person\nIf fewer than five painters are registered 6 hours before an event\, we may need to cancel. You will be notified by email and may choose a full refund or reschedule into another class.\nParking available both in front and behind the studio\nGift Certificates are available: GIFT CERTIFICATE LINK\nOur Events are perfect for a Girls Night Out\, Date Night\, or even solo time away from the weekday grind\nVisit our FAQ page to find more info about our policies and answers to your questions.\nHave more questions? Contact Customer Support by clicking here.
URL:https://wineandcanvas.com/columbus/event/spring-wine-bottle-paint-sip-columbus/
LOCATION:Columbus Studio\, 2010 Crown Plaza Drive\, Columbus\, OH\, 43235\, United States
CATEGORIES:Wine & Canvas
ATTACH;FMTTYPE=image/webp:https://wineandcanvas.com/columbus/wp-content/uploads/sites/76/2026/03/il_570xN.6698477553_gdsh.jpg.webp
ORGANIZER;CN="Bryan":MAILTO:bryansroom@gmail.com
END:VEVENT
BEGIN:VEVENT
DTSTART;TZID=America/New_York:20260509T110000
DTEND;TZID=America/New_York:20260509T130000
DTSTAMP:20260425T132033
CREATED:20260420T141129Z
LAST-MODIFIED:20260420T141129Z
UID:10000927-1778324400-1778331600@wineandcanvas.com
SUMMARY:All Ages Mother's Day Special / Paint and Sip Columbus
DESCRIPTION:Paint with Mom and create lasting memories this Mother’s Day! \n\n\n\n\n\n\n\nGrab your seat today for this colorful paint and sip  butterfly painting led by the talented\, local artist Bryan 🎨  All colors are interchangeable for this painting so when you and your group arrive you can choose any color combo for both the butterfly and the background that you want! Image is pre-sketched onto the canvas for younger artists! So gather your friends for a girls night out\, create a perfect date night or escape into a solo art experience while you sip on your favorite beverage. So leave your cares at the door and dive on into the best paint and sip party in town at Wine and Canvas Columbus!\n\n\n \n\n\n\n🖌️ When: Saturday\, May 9th\n🕒 Time: 11am – 1pm\n📍 Where: 2010 Crown Plaza Drive – Columbus \n✨ What’s Included:\n\nStep-by-step guidance from our talented instructor\nImage is pre sketched onto the canvas for the younger artists\nAll painting supplies provided\nA Relaxing and Fun Evening of Creativity\n\nSeats are limited\, so secure your spot today! Doors Open at 10:45am therefore come early for the best seats! \nThe canvas size is 11×14. Even if you have little to no painting experience\, it’s okay! Our professional artist will walk you through the process step-by-step. The best part is you take home your creation to enjoy forever. \nPlan a Private Event:\nIf the date doesn’t work for you can book a Wine and Canvas private paint and sip experience at our studio!\nGet more information and check availability by visiting our PRIVATE EVENT FORM.  \nImportant Information:\n\nWe require 48 hours notice before the event start time to cancel or reschedule your reservation. No exceptions.\nFurther\, refunds are only offered within 3 days from the purchase date (not the event date).\nOur drink menu includes a wide array of wines\, signature cocktails\, beers and Hard Seltzers\nBecause of our liquor license\, Outside Alcoholic drinks are prohibited.\nWant to change colors? No Problem! Pick the Colors you want your painting to be\nWe are no longer located at Graceland shopping center\, so double check your driving app!\nPricing is per person\nGift Certificates are available: GIFT CERTIFICATE LINK\nParking available both front and behind the studio\nOur Events are perfect for a Girls Night Out\, Date Night\, or even solo time away from the weekday grind\nVisit our FAQ page to find more info about our policies and answers to your questions.\nHave more questions? Contact Customer Support by clicking here.
URL:https://wineandcanvas.com/columbus/event/all-ages-mothers-day-special-paint-and-sip-columbus/
LOCATION:Columbus Studio\, 2010 Crown Plaza Drive\, Columbus\, OH\, 43235\, United States
CATEGORIES:Special Events,Wine & Canvas
ATTACH;FMTTYPE=image/jpeg:https://wineandcanvas.com/columbus/wp-content/uploads/sites/76/2026/04/Blue-Butterfly.jpg
ORGANIZER;CN="Bryan":MAILTO:bryansroom@gmail.com
END:VEVENT
BEGIN:VEVENT
DTSTART;TZID=America/New_York:20260509T190000
DTEND;TZID=America/New_York:20260509T213000
DTSTAMP:20260425T132033
CREATED:20260424T162334Z
LAST-MODIFIED:20260424T181401Z
UID:10000935-1778353200-1778362200@wineandcanvas.com
SUMMARY:Aurora Borealis Sky / Paint and Sip Columbus
DESCRIPTION:Mother’s Day Special Package: 2 tickets and bottle of house wine!\n\nGrab your seat today for this fun and colorful painting “Aurora Borealis Sky”  instructed by our fan favorite local artist Kaitlyn! 🎨  So give mom the gift of art\, gather your friends for a girls night out\, create a perfect date night or escape into a solo art experience while you sip on your favorite beverage. So leave your cares at the door and dive on into the best sip and paint party in town at Wine and Canvas Columbus!\n\n\n \n\n\n\n🖌️ When: Saturday\, May 9th\n🕒 Time: 7:00 PM – 9:30 PM\n📍 Where: 2010 Crown Plaza Drive – Columbus \n✨ What’s Included:\n\nStep-by-step guidance from our talented instructor\nAll painting supplies provided\nNightly Drink Special\nA Relaxing and Fun Evening of Creativity\n\nSeats are limited\, so secure your spot today! Doors Open at 6:45pm therefore come early for the best seats! \nThe canvas size is 16×20. Even if you have little to no painting experience\, it’s okay! Our professional artist will walk you through the process step-by-step. The best part is you take home your creation to enjoy forever. \nPlan a Private Event:\nIf the date doesn’t work for you can book a Wine and Canvas private paint and sip experience at our studio!\nGet more information and check availability by visiting our PRIVATE EVENT FORM.  \nImportant Information:\n\nWe require 48 hours notice before the event start time to cancel or reschedule your reservation. No exceptions.\nFurther\, refunds are only offered within 3 days from the purchase date (not the event date).\nOur drink menu includes a wide array of wines\, signature cocktails\, beers and Hard Seltzers\nBecause of our liquor license\, Outside Alcoholic drinks are prohibited.\nWant to change colors? No Problem! Pick the Colors you want your painting to be\nMinimum age to attend this event is 13 years old\nWe are no longer located at Graceland shopping center\, so double check your driving app!\nPricing is per person\nIf fewer than five painters are registered 6 hours before an event\, we may need to cancel. You will be notified by email and may choose a full refund or reschedule into another class.\nParking available both in front and behind the studio\nGift Certificates are available: GIFT CERTIFICATE LINK\nOur Events are perfect for a Girls Night Out\, Date Night\, or even solo time away from the weekday grind\nVisit our FAQ page to find more info about our policies and answers to your questions.\nHave more questions? Contact Customer Support by clicking here.
URL:https://wineandcanvas.com/columbus/event/aurora-borealis-sky-paint-and-sip-columbus/
LOCATION:Columbus Studio\, 2010 Crown Plaza Drive\, Columbus\, OH\, 43235\, United States
CATEGORIES:Wine & Canvas
ATTACH;FMTTYPE=image/jpeg:https://wineandcanvas.com/columbus/wp-content/uploads/sites/76/2026/04/IMG_2639.jpg
ORGANIZER;CN="Kaitlyn Kendall":MAILTO:kk3nda11@gmail.com
END:VEVENT
BEGIN:VEVENT
DTSTART;TZID=America/New_York:20260606T190000
DTEND;TZID=America/New_York:20260606T213000
DTSTAMP:20260425T132033
CREATED:20260220T194713Z
LAST-MODIFIED:20260408T010250Z
UID:10000885-1780772400-1780781400@wineandcanvas.com
SUMMARY:Colorful Ohio Lake / Paint and Sip Columbus
DESCRIPTION:Paint a beautiful landscape of Ohio with us!\n\nGrab your seat today for this calming and easy painting “Colorful Ohio Lake”  led by the talented\, local artist Bryan! 🎨  So gather your friends for a girls night out\, create a perfect date night or escape into a solo art experience while you sip on your favorite beverage\, at one of the hottest things to do in Columbus. So leave your cares at the door and dive on into the best paint and sip party in town at Wine and Canvas Columbus!\n\n\n \n\n\n\n🖌️ When: Saturday\, June 6th\n🕒 Time: 7:00 PM – 9:30 PM\n📍 Where: 2010 Crown Plaza Drive – Columbus \n✨ What’s Included:\n\nStep-by-step guidance from our talented instructor\nAll painting supplies provided\nNightly Drink Specials\nA Relaxing and Fun Evening of Creativity\n\nSeats are limited\, so secure your spot today! Doors Open at 6:45pm therefore come early for the best seats! \nThe canvas size is 16×20. Even if you have little to no painting experience\, it’s okay! Our professional artist will walk you through the process step-by-step. The best part is you take home your creation to enjoy forever. \nPlan a Private Event:\nIf the date doesn’t work for you can book a Wine and Canvas private paint and sip experience at our studio!\nGet more information and check availability by visiting our PRIVATE EVENT FORM.  \nImportant Information:\n\nWe require 48 hours notice before the event start time to cancel or reschedule your reservation. No exceptions.\nFurther\, refunds are only offered within 3 days from the purchase date (not the event date).\nOur drink menu includes a wide array of wines\, signature cocktails\, beers and Hard Seltzers\nBecause of our liquor license\, Outside Alcoholic drinks are prohibited.\nWant to change colors? No Problem! Pick the Colors you want your painting to be\nMinimum age to attend this event is 14 years old\nWe are no longer located at Graceland shopping center\, so double check your driving app!\nPricing is per person\nGift Certificates are available: GIFT CERTIFICATE LINK\nOur Events are perfect for a Girls Night Out\, Date Night\, or even solo time away from the weekday grind\nVisit our FAQ page to find more info about our policies and answers to your questions.\nHave more questions? Contact Customer Support by clicking here.
URL:https://wineandcanvas.com/columbus/event/colorful-ohio-lake-paint-and-sip-columbus/
LOCATION:Columbus Studio\, 2010 Crown Plaza Drive\, Columbus\, OH\, 43235\, United States
CATEGORIES:Wine & Canvas
ATTACH;FMTTYPE=image/jpeg:https://wineandcanvas.com/columbus/wp-content/uploads/sites/76/2024/08/ColorfulMichigan_Jack.jpg
ORGANIZER;CN="Bryan":MAILTO:bryansroom@gmail.com
END:VEVENT
END:VCALENDAR